BEGIN:VCALENDAR
VERSION:2.0
PRODID:-//Best Choice Realty - ECPv6.15.18//NONSGML v1.0//EN
CALSCALE:GREGORIAN
METHOD:PUBLISH
X-WR-CALNAME:Best Choice Realty
X-ORIGINAL-URL:https://bestchoicerealtyhomes.com
X-WR-CALDESC:Events for Best Choice Realty
REFRESH-INTERVAL;VALUE=DURATION:PT1H
X-Robots-Tag:noindex
X-PUBLISHED-TTL:PT1H
BEGIN:VTIMEZONE
TZID:America/Los_Angeles
BEGIN:DAYLIGHT
TZOFFSETFROM:-0800
TZOFFSETTO:-0700
TZNAME:PDT
DTSTART:20240310T100000
END:DAYLIGHT
BEGIN:STANDARD
TZOFFSETFROM:-0700
TZOFFSETTO:-0800
TZNAME:PST
DTSTART:20241103T090000
END:STANDARD
BEGIN:DAYLIGHT
TZOFFSETFROM:-0800
TZOFFSETTO:-0700
TZNAME:PDT
DTSTART:20250309T100000
END:DAYLIGHT
BEGIN:STANDARD
TZOFFSETFROM:-0700
TZOFFSETTO:-0800
TZNAME:PST
DTSTART:20251102T090000
END:STANDARD
BEGIN:DAYLIGHT
TZOFFSETFROM:-0800
TZOFFSETTO:-0700
TZNAME:PDT
DTSTART:20260308T100000
END:DAYLIGHT
BEGIN:STANDARD
TZOFFSETFROM:-0700
TZOFFSETTO:-0800
TZNAME:PST
DTSTART:20261101T090000
END:STANDARD
END:VTIMEZONE
BEGIN:VEVENT
DTSTART;TZID=America/Los_Angeles:20250530T170000
DTEND;TZID=America/Los_Angeles:20250530T210000
DTSTAMP:20260420T044427
CREATED:20250414T182913Z
LAST-MODIFIED:20250414T184927Z
UID:10001642-1748624400-1748638800@bestchoicerealtyhomes.com
SUMMARY:It's our Lucky 13th! - BCR Anniversary - Seattle
DESCRIPTION:Join us as we celebrate 13 incredible years of success\, growth\, and partnership in the real estate! We’re rolling out the red carpet for a night of glamour\, gratitude\, and high-energy fun. \n\nCasino-style games\nKeynote Speech by Rachelle Willhite\nBuffet Dinner & Beverages\nMusic\, mingling & memories\n\nWhether you’ve been with us since day one or are new to the journey\, we invite you to celebrate this milestone with us. Raise a glass\, roll the dice\, and enjoy an unforgettable evening surrounded by fantastic company. \nDress to impress—you won’t want to miss this so purchase your tickets now with this link:  https://www.eventbrite.com/e/lucky-13-casino-night-anniversary-celebration-for-best-choice-realty-tickets-1263020370929?aff=oddtdtcreator \nNote: Make a night of it and take advantage of the special room rates at DoubleTree.
URL:https://bestchoicerealtyhomes.com/event/its-our-lucky-13th-bcr-anniversary-seattle/
LOCATION:DoubleTree Suites by Hilton Hotel Seattle Airport – Southcenter\, 16500 Southcenter Parkway\, Seattle\, 98188\, United States
CATEGORIES:Area: Coeur d'Alene,Area: Everett,Area: Gig Harbor,Area: Sumner,Area: Tukwila,Mixer/Party/Celebration
END:VEVENT
END:VCALENDAR