BEGIN:VCALENDAR
VERSION:2.0
PRODID:-//Best Choice Realty - ECPv6.15.18//NONSGML v1.0//EN
CALSCALE:GREGORIAN
METHOD:PUBLISH
X-WR-CALNAME:Best Choice Realty
X-ORIGINAL-URL:https://bestchoicerealtyhomes.com
X-WR-CALDESC:Events for Best Choice Realty
REFRESH-INTERVAL;VALUE=DURATION:PT1H
X-Robots-Tag:noindex
X-PUBLISHED-TTL:PT1H
BEGIN:VTIMEZONE
TZID:America/Los_Angeles
BEGIN:DAYLIGHT
TZOFFSETFROM:-0800
TZOFFSETTO:-0700
TZNAME:PDT
DTSTART:20240310T100000
END:DAYLIGHT
BEGIN:STANDARD
TZOFFSETFROM:-0700
TZOFFSETTO:-0800
TZNAME:PST
DTSTART:20241103T090000
END:STANDARD
BEGIN:DAYLIGHT
TZOFFSETFROM:-0800
TZOFFSETTO:-0700
TZNAME:PDT
DTSTART:20250309T100000
END:DAYLIGHT
BEGIN:STANDARD
TZOFFSETFROM:-0700
TZOFFSETTO:-0800
TZNAME:PST
DTSTART:20251102T090000
END:STANDARD
BEGIN:DAYLIGHT
TZOFFSETFROM:-0800
TZOFFSETTO:-0700
TZNAME:PDT
DTSTART:20260308T100000
END:DAYLIGHT
BEGIN:STANDARD
TZOFFSETFROM:-0700
TZOFFSETTO:-0800
TZNAME:PST
DTSTART:20261101T090000
END:STANDARD
END:VTIMEZONE
BEGIN:VEVENT
DTSTART;TZID=America/Los_Angeles:20250807T110000
DTEND;TZID=America/Los_Angeles:20250807T120000
DTSTAMP:20260423T031953
CREATED:20250801T164818Z
LAST-MODIFIED:20250805T211325Z
UID:10002232-1754564400-1754568000@bestchoicerealtyhomes.com
SUMMARY:Best Choice Power Hour - Distressed Properties!
DESCRIPTION:Best Choice Power Hour: Distressed Properties \nDistressed doesn’t mean defeated. This power hour unpacks how to navigate the challenges of distressed properties—from financing hurdles and legal snags to renovation risks and market timing.\nWalk away with tactical insights and a clearer path through the chaos to opportunity. \nZoom link will be emailed out morning of Power Hour! \nTrainer: Rachelle Willhite
URL:https://bestchoicerealtyhomes.com/event/best-choice-power-hour-distressed-properties/
ATTACH;FMTTYPE=image/jpeg:https://bestchoicerealtyhomes.com/wp-content/uploads/2025/07/BCR_PowerHour.jpg
END:VEVENT
END:VCALENDAR