BEGIN:VCALENDAR
VERSION:2.0
PRODID:-//Best Choice Realty - ECPv6.15.18//NONSGML v1.0//EN
CALSCALE:GREGORIAN
METHOD:PUBLISH
X-ORIGINAL-URL:https://bestchoicerealtyhomes.com
X-WR-CALDESC:Events for Best Choice Realty
REFRESH-INTERVAL;VALUE=DURATION:PT1H
X-Robots-Tag:noindex
X-PUBLISHED-TTL:PT1H
BEGIN:VTIMEZONE
TZID:America/Los_Angeles
BEGIN:DAYLIGHT
TZOFFSETFROM:-0800
TZOFFSETTO:-0700
TZNAME:PDT
DTSTART:20240310T100000
END:DAYLIGHT
BEGIN:STANDARD
TZOFFSETFROM:-0700
TZOFFSETTO:-0800
TZNAME:PST
DTSTART:20241103T090000
END:STANDARD
BEGIN:DAYLIGHT
TZOFFSETFROM:-0800
TZOFFSETTO:-0700
TZNAME:PDT
DTSTART:20250309T100000
END:DAYLIGHT
BEGIN:STANDARD
TZOFFSETFROM:-0700
TZOFFSETTO:-0800
TZNAME:PST
DTSTART:20251102T090000
END:STANDARD
BEGIN:DAYLIGHT
TZOFFSETFROM:-0800
TZOFFSETTO:-0700
TZNAME:PDT
DTSTART:20260308T100000
END:DAYLIGHT
BEGIN:STANDARD
TZOFFSETFROM:-0700
TZOFFSETTO:-0800
TZNAME:PST
DTSTART:20261101T090000
END:STANDARD
END:VTIMEZONE
BEGIN:VEVENT
DTSTART;TZID=America/Los_Angeles:20250822T100000
DTEND;TZID=America/Los_Angeles:20250822T130000
DTSTAMP:20260421T024547
CREATED:20250724T193435Z
LAST-MODIFIED:20250815T222230Z
UID:10002089-1755856800-1755867600@bestchoicerealtyhomes.com
SUMMARY:Contract Negotiation - Tukwila
DESCRIPTION:This class is intended as a part II to the WA Forms Foundations and is incredibly interactive. Together we review disclosures\, conduct and techniques for effective offer negotiation in a simulated multiple offer scenario. RSVP to reserve your seat. \nINSTRUCTOR: Candice Frazier \nCLOCK HOURS: 3 \nASSIGNMENT: YES – Submit a mock offer \nRSVP:  Please call 206-886-3986 or email support@bestchoicerealtywa.com
URL:https://bestchoicerealtyhomes.com/event/contract-negotiation-zoom-6/
LOCATION:16400 Southcenter Pkwy #306\, Tukwila\, WA 98188\, USA\, 16400 Southcenter Pkwy #306\, Seattle\, WA\, 98188\, United States
CATEGORIES:Area: Tukwila,Clock Hours (Continuing Education)
ATTACH;FMTTYPE=image/jpeg:https://bestchoicerealtyhomes.com/wp-content/uploads/2023/12/Contract-NEGOTIATION_header.jpg
GEO:47.4553749;-122.2623606
X-APPLE-STRUCTURED-LOCATION;VALUE=URI;X-ADDRESS=16400 Southcenter Pkwy #306 Tukwila WA 98188 USA 16400 Southcenter Pkwy #306 Seattle WA 98188 United States;X-APPLE-RADIUS=500;X-TITLE=16400 Southcenter Pkwy #306:geo:-122.2623606,47.4553749
END:VEVENT
END:VCALENDAR