BEGIN:VCALENDAR
VERSION:2.0
PRODID:-//Best Choice Realty - ECPv6.15.18//NONSGML v1.0//EN
CALSCALE:GREGORIAN
METHOD:PUBLISH
X-WR-CALNAME:Best Choice Realty
X-ORIGINAL-URL:https://bestchoicerealtyhomes.com
X-WR-CALDESC:Events for Best Choice Realty
REFRESH-INTERVAL;VALUE=DURATION:PT1H
X-Robots-Tag:noindex
X-PUBLISHED-TTL:PT1H
BEGIN:VTIMEZONE
TZID:America/Los_Angeles
BEGIN:DAYLIGHT
TZOFFSETFROM:-0800
TZOFFSETTO:-0700
TZNAME:PDT
DTSTART:20250309T100000
END:DAYLIGHT
BEGIN:STANDARD
TZOFFSETFROM:-0700
TZOFFSETTO:-0800
TZNAME:PST
DTSTART:20251102T090000
END:STANDARD
BEGIN:DAYLIGHT
TZOFFSETFROM:-0800
TZOFFSETTO:-0700
TZNAME:PDT
DTSTART:20260308T100000
END:DAYLIGHT
BEGIN:STANDARD
TZOFFSETFROM:-0700
TZOFFSETTO:-0800
TZNAME:PST
DTSTART:20261101T090000
END:STANDARD
BEGIN:DAYLIGHT
TZOFFSETFROM:-0800
TZOFFSETTO:-0700
TZNAME:PDT
DTSTART:20270314T100000
END:DAYLIGHT
BEGIN:STANDARD
TZOFFSETFROM:-0700
TZOFFSETTO:-0800
TZNAME:PST
DTSTART:20271107T090000
END:STANDARD
END:VTIMEZONE
BEGIN:VEVENT
DTSTART;TZID=America/Los_Angeles:20260415T063000
DTEND;TZID=America/Los_Angeles:20260415T073000
DTSTAMP:20260421T015019
CREATED:20260324T222358Z
LAST-MODIFIED:20260324T222424Z
UID:10003194-1776234600-1776238200@bestchoicerealtyhomes.com
SUMMARY:Rainmaker Unit Four- Market Mastery
DESCRIPTION:The Rainmaker Series is a 4-month roadmap designed to help you build a consistent\, scalable real estate business – one habit\, one system\, and one powerful conversation at a time. \nVirginia Everard  |  Real Estate Coach \n\nIf you are interested in joining\, please reach out to Virginia Everard or scan the QR code\, today!
URL:https://bestchoicerealtyhomes.com/event/rainmaker-unit-one-vision-success-5/
CATEGORIES:ZOOM Webinar
ATTACH;FMTTYPE=image/jpeg:https://bestchoicerealtyhomes.com/wp-content/uploads/2025/07/Rainmaker_Header.jpg
END:VEVENT
BEGIN:VEVENT
DTSTART;TZID=America/Los_Angeles:20260415T100000
DTEND;TZID=America/Los_Angeles:20260415T104500
DTSTAMP:20260421T015019
CREATED:20260413T211821Z
LAST-MODIFIED:20260413T211821Z
UID:10003210-1776247200-1776249900@bestchoicerealtyhomes.com
SUMMARY:Cloze Q&A with Jamie Mendelsohn; Cloze VP
DESCRIPTION:BCR Agent Training \nQ&A with Jamie Mendelsohn\, VP Cloze Customer Service.
URL:https://bestchoicerealtyhomes.com/event/cloze-q-cloze-vp/
CATEGORIES:ZOOM Webinar
ATTACH;FMTTYPE=image/jpeg:https://bestchoicerealtyhomes.com/wp-content/uploads/2026/02/BCR_ClozeTraining_Header.jpg
END:VEVENT
END:VCALENDAR