BEGIN:VCALENDAR
VERSION:2.0
PRODID:-//Best Choice Realty - ECPv6.15.18//NONSGML v1.0//EN
CALSCALE:GREGORIAN
METHOD:PUBLISH
X-ORIGINAL-URL:https://bestchoicerealtyhomes.com
X-WR-CALDESC:Events for Best Choice Realty
REFRESH-INTERVAL;VALUE=DURATION:PT1H
X-Robots-Tag:noindex
X-PUBLISHED-TTL:PT1H
BEGIN:VTIMEZONE
TZID:America/Los_Angeles
BEGIN:DAYLIGHT
TZOFFSETFROM:-0800
TZOFFSETTO:-0700
TZNAME:PDT
DTSTART:20250309T100000
END:DAYLIGHT
BEGIN:STANDARD
TZOFFSETFROM:-0700
TZOFFSETTO:-0800
TZNAME:PST
DTSTART:20251102T090000
END:STANDARD
BEGIN:DAYLIGHT
TZOFFSETFROM:-0800
TZOFFSETTO:-0700
TZNAME:PDT
DTSTART:20260308T100000
END:DAYLIGHT
BEGIN:STANDARD
TZOFFSETFROM:-0700
TZOFFSETTO:-0800
TZNAME:PST
DTSTART:20261101T090000
END:STANDARD
BEGIN:DAYLIGHT
TZOFFSETFROM:-0800
TZOFFSETTO:-0700
TZNAME:PDT
DTSTART:20270314T100000
END:DAYLIGHT
BEGIN:STANDARD
TZOFFSETFROM:-0700
TZOFFSETTO:-0800
TZNAME:PST
DTSTART:20271107T090000
END:STANDARD
END:VTIMEZONE
BEGIN:VEVENT
DTSTART;TZID=America/Los_Angeles:20260505T100000
DTEND;TZID=America/Los_Angeles:20260505T130000
DTSTAMP:20260422T062943
CREATED:20260227T191857Z
LAST-MODIFIED:20260227T191857Z
UID:10002917-1777975200-1777986000@bestchoicerealtyhomes.com
SUMMARY:Rainmaker Boot Camp - Buyers Series
DESCRIPTION:Ready to level up your buyer business and close more deals in 2026? \n\nJoin us for an intensive and hands‑on 3‑DAY IN‑PERSON BUYERS SERIES BOOTCAMP built to help agents confidently attract\, convert\, and serve buyers at a higher level.\nThrough LIVE coaching from a top‑producing broker and real\, practical exercises\, you’ll learn how to run a powerful buyer consultation\, set expectations that protect your time\, and guide clients from first contact to closing with clarity and ease. Whether you’re an experienced agent looking to sharpen your buyer process or a newer agent building one from scratch\, this series will strengthen your approach and help you grow a steady\, sustainable pipeline of committed buyers. \nTrainer: Virginia Everard \n\nScan QR code to register!
URL:https://bestchoicerealtyhomes.com/event/rainmaker-boot-camp-buyers-series/
LOCATION:Best Choice Realty – Tukwila\, 16400 Southcenter Pkwy #306\, Seattle\, WA\, 98188\, United States
CATEGORIES:Area: Tukwila,Clock Hours (Continuing Education)
ATTACH;FMTTYPE=image/jpeg:https://bestchoicerealtyhomes.com/wp-content/uploads/2026/02/Rainmaker_Bootcamp.jpg
GEO:47.4553749;-122.2623606
X-APPLE-STRUCTURED-LOCATION;VALUE=URI;X-ADDRESS=Best Choice Realty – Tukwila 16400 Southcenter Pkwy #306 Seattle WA 98188 United States;X-APPLE-RADIUS=500;X-TITLE=16400 Southcenter Pkwy #306:geo:-122.2623606,47.4553749
END:VEVENT
BEGIN:VEVENT
DTSTART;TZID=America/Los_Angeles:20260506T100000
DTEND;TZID=America/Los_Angeles:20260506T130000
DTSTAMP:20260422T062943
CREATED:20260227T192115Z
LAST-MODIFIED:20260227T192115Z
UID:10002918-1778061600-1778072400@bestchoicerealtyhomes.com
SUMMARY:Rainmaker Boot Camp - Buyers Series
DESCRIPTION:Ready to level up your buyer business and close more deals in 2026? \n  \n\nJoin us for an intensive and hands‑on 3‑DAY IN‑PERSON BUYERS SERIES BOOTCAMP built to help agents confidently attract\, convert\, and serve buyers at a higher level.\nThrough LIVE coaching from a top‑producing broker and real\, practical exercises\, you’ll learn how to run a powerful buyer consultation\, set expectations that protect your time\, and guide clients from first contact to closing with clarity and ease. Whether you’re an experienced agent looking to sharpen your buyer process or a newer agent building one from scratch\, this series will strengthen your approach and help you grow a steady\, sustainable pipeline of committed buyers.Trainer: Virginia Everard \n\n\nScan QR code on May 5 calendar event\, to register!
URL:https://bestchoicerealtyhomes.com/event/rainmaker-boot-camp-buyers-series-2/2026-05-06/
LOCATION:Best Choice Realty – Tukwila\, 16400 Southcenter Pkwy #306\, Seattle\, WA\, 98188\, United States
CATEGORIES:Area: Tukwila,Clock Hours (Continuing Education)
ATTACH;FMTTYPE=image/jpeg:https://bestchoicerealtyhomes.com/wp-content/uploads/2026/02/Rainmaker_Bootcamp.jpg
GEO:47.4553749;-122.2623606
X-APPLE-STRUCTURED-LOCATION;VALUE=URI;X-ADDRESS=Best Choice Realty – Tukwila 16400 Southcenter Pkwy #306 Seattle WA 98188 United States;X-APPLE-RADIUS=500;X-TITLE=16400 Southcenter Pkwy #306:geo:-122.2623606,47.4553749
END:VEVENT
BEGIN:VEVENT
DTSTART;TZID=America/Los_Angeles:20260507T100000
DTEND;TZID=America/Los_Angeles:20260507T130000
DTSTAMP:20260422T062943
CREATED:20260227T192115Z
LAST-MODIFIED:20260227T192115Z
UID:10002919-1778148000-1778158800@bestchoicerealtyhomes.com
SUMMARY:Rainmaker Boot Camp - Buyers Series
DESCRIPTION:Ready to level up your buyer business and close more deals in 2026? \n  \n\nJoin us for an intensive and hands‑on 3‑DAY IN‑PERSON BUYERS SERIES BOOTCAMP built to help agents confidently attract\, convert\, and serve buyers at a higher level.\nThrough LIVE coaching from a top‑producing broker and real\, practical exercises\, you’ll learn how to run a powerful buyer consultation\, set expectations that protect your time\, and guide clients from first contact to closing with clarity and ease. Whether you’re an experienced agent looking to sharpen your buyer process or a newer agent building one from scratch\, this series will strengthen your approach and help you grow a steady\, sustainable pipeline of committed buyers.Trainer: Virginia Everard \n\n\nScan QR code on May 5 calendar event\, to register!
URL:https://bestchoicerealtyhomes.com/event/rainmaker-boot-camp-buyers-series-2/2026-05-07/
LOCATION:Best Choice Realty – Tukwila\, 16400 Southcenter Pkwy #306\, Seattle\, WA\, 98188\, United States
CATEGORIES:Area: Tukwila,Clock Hours (Continuing Education)
ATTACH;FMTTYPE=image/jpeg:https://bestchoicerealtyhomes.com/wp-content/uploads/2026/02/Rainmaker_Bootcamp.jpg
GEO:47.4553749;-122.2623606
X-APPLE-STRUCTURED-LOCATION;VALUE=URI;X-ADDRESS=Best Choice Realty – Tukwila 16400 Southcenter Pkwy #306 Seattle WA 98188 United States;X-APPLE-RADIUS=500;X-TITLE=16400 Southcenter Pkwy #306:geo:-122.2623606,47.4553749
END:VEVENT
BEGIN:VEVENT
DTSTART;TZID=America/Los_Angeles:20260520T090000
DTEND;TZID=America/Los_Angeles:20260520T120000
DTSTAMP:20260422T062943
CREATED:20251231T190653Z
LAST-MODIFIED:20251231T190653Z
UID:10002906-1779267600-1779278400@bestchoicerealtyhomes.com
SUMMARY:WA Forms Foundations – Zoom
DESCRIPTION:Gain a comprehensive understanding of how to present the Buyer Representation Agreement\, Purchase and Sale Agreement\, and related addenda with confidence and clarity. \nThis training provides real-world scenarios and practical narratives to illustrate the significance of each contract term\, equipping you with the language and strategies to effectively communicate their value to your clients. \nINSTRUCTOR: Jenny Hook \nFree with an Option to pay for CLOCK HOURS: 3 \nASSIGNMENT: NONE
URL:https://bestchoicerealtyhomes.com/event/wa-forms-foundations-zoom-9/
LOCATION:WA
CATEGORIES:Clock Hours (Continuing Education),ZOOM Webinar
ATTACH;FMTTYPE=image/jpeg:https://bestchoicerealtyhomes.com/wp-content/uploads/2023/12/WA-Forms-FOUNDATIONS_header.jpg
END:VEVENT
BEGIN:VEVENT
DTSTART;TZID=America/Los_Angeles:20260528T160000
DTEND;TZID=America/Los_Angeles:20260528T190000
DTSTAMP:20260422T062943
CREATED:20251231T195805Z
LAST-MODIFIED:20251231T195805Z
UID:10002907-1779984000-1779994800@bestchoicerealtyhomes.com
SUMMARY:Contract Negotiation - Zoom
DESCRIPTION:This class is intended as a part II to the WA Forms Foundations and is incredibly interactive. Together we review disclosures\, conduct and techniques for effective offer negotiation in a simulated multiple offer scenario. RSVP to reserve your seat. \nINSTRUCTOR: Candice Frazier \nCLOCK HOURS: 3 \nASSIGNMENT: YES – Submit a mock offer \n 
URL:https://bestchoicerealtyhomes.com/event/contract-negotiation-zoom-9/
LOCATION:WA
CATEGORIES:Clock Hours (Continuing Education),ZOOM Webinar
ATTACH;FMTTYPE=image/jpeg:https://bestchoicerealtyhomes.com/wp-content/uploads/2023/12/Contract-NEGOTIATION_header.jpg
END:VEVENT
END:VCALENDAR