BEGIN:VCALENDAR
VERSION:2.0
PRODID:-//Best Choice Realty - ECPv6.15.18//NONSGML v1.0//EN
CALSCALE:GREGORIAN
METHOD:PUBLISH
X-WR-CALNAME:Best Choice Realty
X-ORIGINAL-URL:https://bestchoicerealtyhomes.com
X-WR-CALDESC:Events for Best Choice Realty
REFRESH-INTERVAL;VALUE=DURATION:PT1H
X-Robots-Tag:noindex
X-PUBLISHED-TTL:PT1H
BEGIN:VTIMEZONE
TZID:America/Los_Angeles
BEGIN:DAYLIGHT
TZOFFSETFROM:-0800
TZOFFSETTO:-0700
TZNAME:PDT
DTSTART:20250309T100000
END:DAYLIGHT
BEGIN:STANDARD
TZOFFSETFROM:-0700
TZOFFSETTO:-0800
TZNAME:PST
DTSTART:20251102T090000
END:STANDARD
BEGIN:DAYLIGHT
TZOFFSETFROM:-0800
TZOFFSETTO:-0700
TZNAME:PDT
DTSTART:20260308T100000
END:DAYLIGHT
BEGIN:STANDARD
TZOFFSETFROM:-0700
TZOFFSETTO:-0800
TZNAME:PST
DTSTART:20261101T090000
END:STANDARD
BEGIN:DAYLIGHT
TZOFFSETFROM:-0800
TZOFFSETTO:-0700
TZNAME:PDT
DTSTART:20270314T100000
END:DAYLIGHT
BEGIN:STANDARD
TZOFFSETFROM:-0700
TZOFFSETTO:-0800
TZNAME:PST
DTSTART:20271107T090000
END:STANDARD
END:VTIMEZONE
BEGIN:VEVENT
DTSTART;TZID=America/Los_Angeles:20260623T100000
DTEND;TZID=America/Los_Angeles:20260623T130000
DTSTAMP:20260422T081556
CREATED:20251231T200026Z
LAST-MODIFIED:20251231T200026Z
UID:10002908-1782208800-1782219600@bestchoicerealtyhomes.com
SUMMARY:WA Forms Foundations – Tukwila
DESCRIPTION:Gain a comprehensive understanding of how to present the Buyer Representation Agreement\, Purchase and Sale Agreement\, and related addenda with confidence and clarity. \nThis training provides real-world scenarios and practical narratives to illustrate the significance of each contract term\, equipping you with the language and strategies to effectively communicate their value to your clients. \nINSTRUCTOR: Virginia Everard \nFree with an Option to pay for CLOCK HOURS: 3 \nASSIGNMENT: NONE
URL:https://bestchoicerealtyhomes.com/event/wa-forms-foundations-tukwila-3/
LOCATION:Best Choice Realty – Tukwila\, 16400 Southcenter Pkwy #306\, Seattle\, WA\, 98188\, United States
CATEGORIES:Area: Tukwila,Clock Hours (Continuing Education)
ATTACH;FMTTYPE=image/jpeg:https://bestchoicerealtyhomes.com/wp-content/uploads/2023/12/WA-Forms-FOUNDATIONS_header.jpg
GEO:47.4553749;-122.2623606
X-APPLE-STRUCTURED-LOCATION;VALUE=URI;X-ADDRESS=Best Choice Realty – Tukwila 16400 Southcenter Pkwy #306 Seattle WA 98188 United States;X-APPLE-RADIUS=500;X-TITLE=16400 Southcenter Pkwy #306:geo:-122.2623606,47.4553749
END:VEVENT
BEGIN:VEVENT
DTSTART;TZID=America/Los_Angeles:20260626T100000
DTEND;TZID=America/Los_Angeles:20260626T130000
DTSTAMP:20260422T081556
CREATED:20251231T200409Z
LAST-MODIFIED:20251231T200409Z
UID:10002910-1782468000-1782478800@bestchoicerealtyhomes.com
SUMMARY:Contract Negotiation - Tukwila
DESCRIPTION:This class is intended as a part II to the WA Forms Foundations and is incredibly interactive. Together we review disclosures\, conduct and techniques for effective offer negotiation in a simulated multiple offer scenario. RSVP to reserve your seat. \nINSTRUCTOR: Candice Frazier \nCLOCK HOURS: 3 \nASSIGNMENT: YES – Submit a mock offer \n 
URL:https://bestchoicerealtyhomes.com/event/contract-negotiation-tukwila-3/
LOCATION:Best Choice Realty – Tukwila\, 16400 Southcenter Pkwy #306\, Seattle\, WA\, 98188\, United States
CATEGORIES:Area: Tukwila,Clock Hours (Continuing Education)
ATTACH;FMTTYPE=image/jpeg:https://bestchoicerealtyhomes.com/wp-content/uploads/2023/12/Contract-NEGOTIATION_header.jpg
GEO:47.4553749;-122.2623606
X-APPLE-STRUCTURED-LOCATION;VALUE=URI;X-ADDRESS=Best Choice Realty – Tukwila 16400 Southcenter Pkwy #306 Seattle WA 98188 United States;X-APPLE-RADIUS=500;X-TITLE=16400 Southcenter Pkwy #306:geo:-122.2623606,47.4553749
END:VEVENT
END:VCALENDAR