BEGIN:VCALENDAR
VERSION:2.0
PRODID:-//Best Choice Realty - ECPv6.15.18//NONSGML v1.0//EN
CALSCALE:GREGORIAN
METHOD:PUBLISH
X-ORIGINAL-URL:https://bestchoicerealtyhomes.com
X-WR-CALDESC:Events for Best Choice Realty
REFRESH-INTERVAL;VALUE=DURATION:PT1H
X-Robots-Tag:noindex
X-PUBLISHED-TTL:PT1H
BEGIN:VTIMEZONE
TZID:America/Los_Angeles
BEGIN:DAYLIGHT
TZOFFSETFROM:-0800
TZOFFSETTO:-0700
TZNAME:PDT
DTSTART:20240310T100000
END:DAYLIGHT
BEGIN:STANDARD
TZOFFSETFROM:-0700
TZOFFSETTO:-0800
TZNAME:PST
DTSTART:20241103T090000
END:STANDARD
BEGIN:DAYLIGHT
TZOFFSETFROM:-0800
TZOFFSETTO:-0700
TZNAME:PDT
DTSTART:20250309T100000
END:DAYLIGHT
BEGIN:STANDARD
TZOFFSETFROM:-0700
TZOFFSETTO:-0800
TZNAME:PST
DTSTART:20251102T090000
END:STANDARD
BEGIN:DAYLIGHT
TZOFFSETFROM:-0800
TZOFFSETTO:-0700
TZNAME:PDT
DTSTART:20260308T100000
END:DAYLIGHT
BEGIN:STANDARD
TZOFFSETFROM:-0700
TZOFFSETTO:-0800
TZNAME:PST
DTSTART:20261101T090000
END:STANDARD
END:VTIMEZONE
BEGIN:VEVENT
DTSTART;TZID=America/Los_Angeles:20251105T100000
DTEND;TZID=America/Los_Angeles:20251105T140000
DTSTAMP:20260420T142432
CREATED:20250910T233746Z
LAST-MODIFIED:20251002T180527Z
UID:10002517-1762336800-1762351200@bestchoicerealtyhomes.com
SUMMARY:Best Choice Idol - Final Listing Presentations! In-Person Event
DESCRIPTION:Join us\, LIVE\, for a dynamic CE class featuring the Best Choice Idol finalists\, as they compete in a live listing presentation challenge judged by a panel of industry experts.\nThis engaging session offers a hands-on opportunity to observe and learn from a full mock seller appointment\, from initial rapport-building to market proposal\, pricing strategy\, and listing paperwork. \nWhether you’re new to listings or looking to sharpen your edge\, you’ll walk away with practical tips to elevate your presentation skills\, build trust with sellers\, and win more listings with confidence.\nYou won’t want to miss this engaging finale! \nFacilitator/MC: Rachelle Willhite \nEventbrite ticket link: https://www.eventbrite.com/e/best-choice-idol-2025-tickets-1681306616349?aff=oddtdtcreator
URL:https://bestchoicerealtyhomes.com/event/best-choice-idol-final-listing-presentations-in-person-event/
LOCATION:Mercer Island Community & Event Center\, 8236 Southeast 24th Street\, Mercer Island\, WA\, 98040\, United States
CATEGORIES:Area: Bellevue,Clock Hours (Continuing Education),Mixer/Party/Celebration
ATTACH;FMTTYPE=image/jpeg:https://bestchoicerealtyhomes.com/wp-content/uploads/2025/09/BestChoiceIdol_Header.jpg
END:VEVENT
END:VCALENDAR