BEGIN:VCALENDAR
VERSION:2.0
PRODID:-//Best Choice Realty - ECPv6.15.18//NONSGML v1.0//EN
CALSCALE:GREGORIAN
METHOD:PUBLISH
X-WR-CALNAME:Best Choice Realty
X-ORIGINAL-URL:https://bestchoicerealtyhomes.com
X-WR-CALDESC:Events for Best Choice Realty
REFRESH-INTERVAL;VALUE=DURATION:PT1H
X-Robots-Tag:noindex
X-PUBLISHED-TTL:PT1H
BEGIN:VTIMEZONE
TZID:America/Los_Angeles
BEGIN:DAYLIGHT
TZOFFSETFROM:-0800
TZOFFSETTO:-0700
TZNAME:PDT
DTSTART:20240310T100000
END:DAYLIGHT
BEGIN:STANDARD
TZOFFSETFROM:-0700
TZOFFSETTO:-0800
TZNAME:PST
DTSTART:20241103T090000
END:STANDARD
BEGIN:DAYLIGHT
TZOFFSETFROM:-0800
TZOFFSETTO:-0700
TZNAME:PDT
DTSTART:20250309T100000
END:DAYLIGHT
BEGIN:STANDARD
TZOFFSETFROM:-0700
TZOFFSETTO:-0800
TZNAME:PST
DTSTART:20251102T090000
END:STANDARD
BEGIN:DAYLIGHT
TZOFFSETFROM:-0800
TZOFFSETTO:-0700
TZNAME:PDT
DTSTART:20260308T100000
END:DAYLIGHT
BEGIN:STANDARD
TZOFFSETFROM:-0700
TZOFFSETTO:-0800
TZNAME:PST
DTSTART:20261101T090000
END:STANDARD
END:VTIMEZONE
BEGIN:VEVENT
DTSTART;TZID=America/Los_Angeles:20250901T173000
DTEND;TZID=America/Los_Angeles:20250901T180000
DTSTAMP:20260420T062506
CREATED:20250626T225433Z
LAST-MODIFIED:20251223T194415Z
UID:10002513-1756747800-1756749600@bestchoicerealtyhomes.com
SUMMARY:Monday Night Webinar - (Zoom)
DESCRIPTION:Stay ahead of the curve with our weekly discussions led by our managing brokers. Every Monday\, we dive into new topics covering current market trends\, interest rates\, and key updates—exploring what’s trending\, the challenges agents are facing\, and actionable strategies to stay ahead in the industry. \n\nZoom link emailed out on Mondays \nIf you’re unable to join live\, don’t worry! Most sessions are recorded and available for review on our website: bestchoicerealtyhomes.com/education.
URL:https://bestchoicerealtyhomes.com/event/monday-night-webinar-zoom-8/2025-09-01/
CATEGORIES:ZOOM Webinar
ATTACH;FMTTYPE=image/png:https://bestchoicerealtyhomes.com/wp-content/uploads/2023/12/Monday-Night-Webinar-Cover-1.png
LOCATION:https://bestchoicerealtyhomes.com/event/monday-night-webinar-zoom-8/2025-09-01/
END:VEVENT
BEGIN:VEVENT
DTSTART;TZID=America/Los_Angeles:20250903T090000
DTEND;TZID=America/Los_Angeles:20250903T100000
DTSTAMP:20260420T062506
CREATED:20250710T223838Z
LAST-MODIFIED:20250710T223838Z
UID:10002006-1756890000-1756893600@bestchoicerealtyhomes.com
SUMMARY:Rainmaker - Where is Your Time Going?
DESCRIPTION:*Running your business like a CEO\, a look at time-blocking\, 25/day. \nReady to double your business or finally build the real estate career you’ve envisioned? \nThe Rainmaker Training Series is a high-impact\, weekly coaching program designed to equip agents with proven strategies\, interactive practice\, and real-world accountability to spark real results in the next 90 days.\nIf you are interested in joining\, please reach out to Virginia Everard or scan the QR code\, today!
URL:https://bestchoicerealtyhomes.com/event/raindrop-to-rainmaker-morning-2-2-2-9/
CATEGORIES:ZOOM Webinar
ATTACH;FMTTYPE=image/jpeg:https://bestchoicerealtyhomes.com/wp-content/uploads/2025/07/Rainmaker_Header.jpg
END:VEVENT
BEGIN:VEVENT
DTSTART;TZID=America/Los_Angeles:20250903T170000
DTEND;TZID=America/Los_Angeles:20250903T180000
DTSTAMP:20260420T062506
CREATED:20250710T223341Z
LAST-MODIFIED:20250710T223342Z
UID:10002017-1756918800-1756922400@bestchoicerealtyhomes.com
SUMMARY:Rainmaker - Where is Your Time Going?
DESCRIPTION:*Running your business like a CEO\, a look at time-blocking\, 25/day. \nReady to double your business or finally build the real estate career you’ve envisioned? \nThe Rainmaker Training Series is a high-impact\, weekly coaching program designed to equip agents with proven strategies\, interactive practice\, and real-world accountability to spark real results in the next 90 days.\nIf you are interested in joining\, please reach out to Virginia Everard or scan the QR code\, today!
URL:https://bestchoicerealtyhomes.com/event/raindrop-to-rainmaker-evening-2-2-10/
CATEGORIES:ZOOM Webinar
ATTACH;FMTTYPE=image/jpeg:https://bestchoicerealtyhomes.com/wp-content/uploads/2025/07/Rainmaker_Header.jpg
END:VEVENT
BEGIN:VEVENT
DTSTART;TZID=America/Los_Angeles:20250908T120000
DTEND;TZID=America/Los_Angeles:20250908T130000
DTSTAMP:20260420T062506
CREATED:20250905T215750Z
LAST-MODIFIED:20250905T215751Z
UID:10002455-1757332800-1757336400@bestchoicerealtyhomes.com
SUMMARY:Digital Business Foundations - Sumner Office
DESCRIPTION:We will cover the key aspects of building and managing an online presence\, including tools like Google My Business\, Facebook Business Pages\, social media platforms\, and customer relationship management systems (CRMs).\nIt conveys a foundational\, practical approach to mastering the digital landscape for business. \nYou will need your computer or laptop\, along with your social media usernames and passwords! \nThis session will be held virtually\, on Zoom.\nTo reserve your seat please call 206-886-3986 or email support@bestchoicerealtywa.com to RSVP. \nINSTRUCTOR: Shannon Hall
URL:https://bestchoicerealtyhomes.com/event/digital-business-foundations-zoom-2-2/
LOCATION:Best Choice Realty – Sumner\, 15421 Main St E\, Suite B\, Sumner\, WA\, 98390\, United States
CATEGORIES:ZOOM Webinar
ATTACH;FMTTYPE=image/jpeg:https://bestchoicerealtyhomes.com/wp-content/uploads/2024/11/Digital-Business-FOUNDATIONS_header.jpg
GEO:47.202915;-122.223091
X-APPLE-STRUCTURED-LOCATION;VALUE=URI;X-ADDRESS=Best Choice Realty – Sumner 15421 Main St E Suite B Sumner WA 98390 United States;X-APPLE-RADIUS=500;X-TITLE=15421 Main St E\, Suite B:geo:-122.223091,47.202915
END:VEVENT
BEGIN:VEVENT
DTSTART;TZID=America/Los_Angeles:20250908T173000
DTEND;TZID=America/Los_Angeles:20250908T180000
DTSTAMP:20260420T062506
CREATED:20250626T225433Z
LAST-MODIFIED:20251223T194415Z
UID:10002240-1757352600-1757354400@bestchoicerealtyhomes.com
SUMMARY:Monday Night Webinar - (Zoom)
DESCRIPTION:Stay ahead of the curve with our weekly discussions led by our managing brokers. Every Monday\, we dive into new topics covering current market trends\, interest rates\, and key updates—exploring what’s trending\, the challenges agents are facing\, and actionable strategies to stay ahead in the industry. \n\nZoom link emailed out on Mondays \nIf you’re unable to join live\, don’t worry! Most sessions are recorded and available for review on our website: bestchoicerealtyhomes.com/education.
URL:https://bestchoicerealtyhomes.com/event/monday-night-webinar-zoom-8/2025-09-08/
CATEGORIES:ZOOM Webinar
ATTACH;FMTTYPE=image/png:https://bestchoicerealtyhomes.com/wp-content/uploads/2023/12/Monday-Night-Webinar-Cover-1.png
LOCATION:https://bestchoicerealtyhomes.com/event/monday-night-webinar-zoom-8/2025-09-08/
END:VEVENT
BEGIN:VEVENT
DTSTART;TZID=America/Los_Angeles:20250910T090000
DTEND;TZID=America/Los_Angeles:20250910T100000
DTSTAMP:20260420T062506
CREATED:20250710T225856Z
LAST-MODIFIED:20250710T225856Z
UID:10002007-1757494800-1757498400@bestchoicerealtyhomes.com
SUMMARY:Rainmaker – Building a Repeat Business
DESCRIPTION:*Ratings\, reviews\, referrals\, value propositions.\n\nReady to double your business or finally build the real estate career you’ve envisioned? \nThe Rainmaker Training Series is a high-impact\, weekly coaching program designed to equip agents with proven strategies\, interactive practice\, and real-world accountability to spark real results in the next 90 days.\nIf you are interested in joining\, please reach out to Virginia Everard or scan the QR code\, today!
URL:https://bestchoicerealtyhomes.com/event/raindrop-to-rainmaker-morning-2-2-2-10/
CATEGORIES:ZOOM Webinar
ATTACH;FMTTYPE=image/jpeg:https://bestchoicerealtyhomes.com/wp-content/uploads/2025/07/Rainmaker_Header.jpg
END:VEVENT
BEGIN:VEVENT
DTSTART;TZID=America/Los_Angeles:20250910T170000
DTEND;TZID=America/Los_Angeles:20250910T180000
DTSTAMP:20260420T062506
CREATED:20250710T224825Z
LAST-MODIFIED:20250710T224825Z
UID:10002018-1757523600-1757527200@bestchoicerealtyhomes.com
SUMMARY:Rainmaker - Building a Repeat Business
DESCRIPTION:*Ratings\, reviews\, referrals\, value propositions.\n\nReady to double your business or finally build the real estate career you’ve envisioned? \nThe Rainmaker Training Series is a high-impact\, weekly coaching program designed to equip agents with proven strategies\, interactive practice\, and real-world accountability to spark real results in the next 90 days.\nIf you are interested in joining\, please reach out to Virginia Everard or scan the QR code\, today!
URL:https://bestchoicerealtyhomes.com/event/raindrop-to-rainmaker-evening-2-2-11/
CATEGORIES:ZOOM Webinar
ATTACH;FMTTYPE=image/jpeg:https://bestchoicerealtyhomes.com/wp-content/uploads/2025/07/Rainmaker_Header.jpg
END:VEVENT
BEGIN:VEVENT
DTSTART;TZID=America/Los_Angeles:20250915T120000
DTEND;TZID=America/Los_Angeles:20250915T130000
DTSTAMP:20260420T062506
CREATED:20250905T215848Z
LAST-MODIFIED:20250905T215849Z
UID:10002456-1757937600-1757941200@bestchoicerealtyhomes.com
SUMMARY:Digital Business Foundations - Tukwila Office
DESCRIPTION:We will cover the key aspects of building and managing an online presence\, including tools like Google My Business\, Facebook Business Pages\, social media platforms\, and customer relationship management systems (CRMs).\nIt conveys a foundational\, practical approach to mastering the digital landscape for business. \nYou will need your computer or laptop\, along with your social media usernames and passwords! \nThis session will be held virtually\, on Zoom.\nTo reserve your seat please call 206-886-3986 or email support@bestchoicerealtywa.com to RSVP. \nINSTRUCTOR: Shannon Hall
URL:https://bestchoicerealtyhomes.com/event/digital-business-foundations-zoom-2-3/
LOCATION:16400 Southcenter Pkwy #306\, Tukwila\, WA 98188\, USA\, 16400 Southcenter Pkwy #306\, Seattle\, WA\, 98188\, United States
CATEGORIES:ZOOM Webinar
ATTACH;FMTTYPE=image/jpeg:https://bestchoicerealtyhomes.com/wp-content/uploads/2024/11/Digital-Business-FOUNDATIONS_header.jpg
GEO:47.4553749;-122.2623606
X-APPLE-STRUCTURED-LOCATION;VALUE=URI;X-ADDRESS=16400 Southcenter Pkwy #306 Tukwila WA 98188 USA 16400 Southcenter Pkwy #306 Seattle WA 98188 United States;X-APPLE-RADIUS=500;X-TITLE=16400 Southcenter Pkwy #306:geo:-122.2623606,47.4553749
END:VEVENT
BEGIN:VEVENT
DTSTART;TZID=America/Los_Angeles:20250915T173000
DTEND;TZID=America/Los_Angeles:20250915T180000
DTSTAMP:20260420T062506
CREATED:20250626T225433Z
LAST-MODIFIED:20251223T194415Z
UID:10002241-1757957400-1757959200@bestchoicerealtyhomes.com
SUMMARY:Monday Night Webinar - (Zoom)
DESCRIPTION:Stay ahead of the curve with our weekly discussions led by our managing brokers. Every Monday\, we dive into new topics covering current market trends\, interest rates\, and key updates—exploring what’s trending\, the challenges agents are facing\, and actionable strategies to stay ahead in the industry. \n\nZoom link emailed out on Mondays \nIf you’re unable to join live\, don’t worry! Most sessions are recorded and available for review on our website: bestchoicerealtyhomes.com/education.
URL:https://bestchoicerealtyhomes.com/event/monday-night-webinar-zoom-8/2025-09-15/
CATEGORIES:ZOOM Webinar
ATTACH;FMTTYPE=image/png:https://bestchoicerealtyhomes.com/wp-content/uploads/2023/12/Monday-Night-Webinar-Cover-1.png
LOCATION:https://bestchoicerealtyhomes.com/event/monday-night-webinar-zoom-8/2025-09-15/
END:VEVENT
BEGIN:VEVENT
DTSTART;TZID=America/Los_Angeles:20250917T090000
DTEND;TZID=America/Los_Angeles:20250917T100000
DTSTAMP:20260420T062506
CREATED:20250710T230258Z
LAST-MODIFIED:20250710T230259Z
UID:10002008-1758099600-1758103200@bestchoicerealtyhomes.com
SUMMARY:Rainmaker – The Deal Doctor; Saving Contracts Before They Flatline
DESCRIPTION:*Difficult clients and situations\, understanding remorse and contingencies.\n\nReady to double your business or finally build the real estate career you’ve envisioned? \nThe Rainmaker Training Series is a high-impact\, weekly coaching program designed to equip agents with proven strategies\, interactive practice\, and real-world accountability to spark real results in the next 90 days.\nIf you are interested in joining\, please reach out to Virginia Everard or scan the QR code\, today!
URL:https://bestchoicerealtyhomes.com/event/raindrop-to-rainmaker-morning-2-2-2-11/
CATEGORIES:ZOOM Webinar
ATTACH;FMTTYPE=image/jpeg:https://bestchoicerealtyhomes.com/wp-content/uploads/2025/07/Rainmaker_Header.jpg
END:VEVENT
BEGIN:VEVENT
DTSTART;TZID=America/Los_Angeles:20250917T120000
DTEND;TZID=America/Los_Angeles:20250917T130000
DTSTAMP:20260420T062506
CREATED:20250813T215242Z
LAST-MODIFIED:20250916T212056Z
UID:10002293-1758110400-1758114000@bestchoicerealtyhomes.com
SUMMARY:Power Hour with Debbie De Grote; Handling Price Reductions with Confidence!
DESCRIPTION:Handling Price Reductions with Confidence\nDuring this Power Hour\, you’ll discover: \n\nWhy price reductions are crucial to maintaining a competitive edge\nHow to approach your seller with a price reduction recommendation using market data and buyer feedback\nScripts to manage seller expectations\n\nPlease join us\, with special guest trainer\, Debbie De Grote\, CEO and Co-Founder of Forward Coaching. \n  \nLink to join: https://us02web.zoom.us/j/83496716486?pwd=PgKtZEgZxQHqJgvA8jekEBKk103gAO.1&jst=3
URL:https://bestchoicerealtyhomes.com/event/best-choice-power-hour-handling-price-reductions-with-confidence/
CATEGORIES:ZOOM Webinar
ATTACH;FMTTYPE=image/jpeg:https://bestchoicerealtyhomes.com/wp-content/uploads/2025/07/BCR_PowerHour.jpg
END:VEVENT
BEGIN:VEVENT
DTSTART;TZID=America/Los_Angeles:20250917T170000
DTEND;TZID=America/Los_Angeles:20250917T180000
DTSTAMP:20260420T062506
CREATED:20250710T230057Z
LAST-MODIFIED:20250710T230345Z
UID:10002019-1758128400-1758132000@bestchoicerealtyhomes.com
SUMMARY:Rainmaker - The Deal Doctor; Saving Contracts Before They Flatline
DESCRIPTION:*Difficult clients and situations\, understanding remorse and contingencies.\n\nReady to double your business or finally build the real estate career you’ve envisioned? \nThe Rainmaker Training Series is a high-impact\, weekly coaching program designed to equip agents with proven strategies\, interactive practice\, and real-world accountability to spark real results in the next 90 days.\nIf you are interested in joining\, please reach out to Virginia Everard or scan the QR code\, today!
URL:https://bestchoicerealtyhomes.com/event/raindrop-to-rainmaker-evening-2-2-12/
CATEGORIES:ZOOM Webinar
ATTACH;FMTTYPE=image/jpeg:https://bestchoicerealtyhomes.com/wp-content/uploads/2025/07/Rainmaker_Header.jpg
END:VEVENT
BEGIN:VEVENT
DTSTART;TZID=America/Los_Angeles:20250919T100000
DTEND;TZID=America/Los_Angeles:20250919T130000
DTSTAMP:20260420T062506
CREATED:20250902T194707Z
LAST-MODIFIED:20250902T200441Z
UID:10002393-1758276000-1758286800@bestchoicerealtyhomes.com
SUMMARY:WA Forms Foundations – Tukwila Office
DESCRIPTION:Gain a comprehensive understanding of how to present the Buyer Representation Agreement\, Purchase and Sale Agreement\, and related addenda with confidence and clarity. \nThis training provides real-world scenarios and practical narratives to illustrate the significance of each contract term\, equipping you with the language and strategies to effectively communicate their value to your clients. \nTo reserve your seat please call 206-886-3986 or email support@bestchoicerealtywa.com to RSVP. \nINSTRUCTOR: Jenny Hook \nFree with an Option to pay for CLOCK HOURS: 3 \nASSIGNMENT: NONE \n  \nTo reserve your seat please call 206-886-3986 or email support@bestchoicerealtywa.com to RSVP.
URL:https://bestchoicerealtyhomes.com/event/wa-forms-foundations-tukwila-office/
LOCATION:16400 Southcenter Pkwy #306\, Tukwila\, WA 98188\, USA\, 16400 Southcenter Pkwy #306\, Seattle\, WA\, 98188\, United States
CATEGORIES:Clock Hours (Continuing Education),ZOOM Webinar
ATTACH;FMTTYPE=image/jpeg:https://bestchoicerealtyhomes.com/wp-content/uploads/2023/12/WA-Forms-FOUNDATIONS_header.jpg
GEO:47.4553749;-122.2623606
X-APPLE-STRUCTURED-LOCATION;VALUE=URI;X-ADDRESS=16400 Southcenter Pkwy #306 Tukwila WA 98188 USA 16400 Southcenter Pkwy #306 Seattle WA 98188 United States;X-APPLE-RADIUS=500;X-TITLE=16400 Southcenter Pkwy #306:geo:-122.2623606,47.4553749
END:VEVENT
BEGIN:VEVENT
DTSTART;TZID=America/Los_Angeles:20250922T173000
DTEND;TZID=America/Los_Angeles:20250922T180000
DTSTAMP:20260420T062506
CREATED:20250626T225433Z
LAST-MODIFIED:20251223T194415Z
UID:10002242-1758562200-1758564000@bestchoicerealtyhomes.com
SUMMARY:Monday Night Webinar - (Zoom)
DESCRIPTION:Stay ahead of the curve with our weekly discussions led by our managing brokers. Every Monday\, we dive into new topics covering current market trends\, interest rates\, and key updates—exploring what’s trending\, the challenges agents are facing\, and actionable strategies to stay ahead in the industry. \n\nZoom link emailed out on Mondays \nIf you’re unable to join live\, don’t worry! Most sessions are recorded and available for review on our website: bestchoicerealtyhomes.com/education.
URL:https://bestchoicerealtyhomes.com/event/monday-night-webinar-zoom-8/2025-09-22/
CATEGORIES:ZOOM Webinar
ATTACH;FMTTYPE=image/png:https://bestchoicerealtyhomes.com/wp-content/uploads/2023/12/Monday-Night-Webinar-Cover-1.png
LOCATION:https://bestchoicerealtyhomes.com/event/monday-night-webinar-zoom-8/2025-09-22/
END:VEVENT
BEGIN:VEVENT
DTSTART;TZID=America/Los_Angeles:20250924T090000
DTEND;TZID=America/Los_Angeles:20250924T100000
DTSTAMP:20260420T062506
CREATED:20250710T232251Z
LAST-MODIFIED:20250714T201915Z
UID:10002009-1758704400-1758708000@bestchoicerealtyhomes.com
SUMMARY:Rainmaker - Run Your Business Like a Business
DESCRIPTION:*Business licensing\, finances\, deductions\, P&L\, Balance Sheet\, taxes overview. \n\nReady to double your business or finally build the real estate career you’ve envisioned? \nThe Rainmaker Training Series is a high-impact\, weekly coaching program designed to equip agents with proven strategies\, interactive practice\, and real-world accountability to spark real results in the next 90 days.\nIf you are interested in joining\, please reach out to Virginia Everard or scan the QR code\, today! \n \n\n 
URL:https://bestchoicerealtyhomes.com/event/raindrop-to-rainmaker-morning-2-2-2-12/
CATEGORIES:ZOOM Webinar
ATTACH;FMTTYPE=image/jpeg:https://bestchoicerealtyhomes.com/wp-content/uploads/2025/07/Rainmaker_Header.jpg
END:VEVENT
BEGIN:VEVENT
DTSTART;TZID=America/Los_Angeles:20250924T170000
DTEND;TZID=America/Los_Angeles:20250924T180000
DTSTAMP:20260420T062506
CREATED:20250710T233014Z
LAST-MODIFIED:20250714T201730Z
UID:10002020-1758733200-1758736800@bestchoicerealtyhomes.com
SUMMARY:Rainmaker - Run Your Business Like a Business
DESCRIPTION:*Business licensing\, finances\, deductions\, P&L\, Balance Sheet\, taxes overview. \n\nReady to double your business or finally build the real estate career you’ve envisioned? \nThe Rainmaker Training Series is a high-impact\, weekly coaching program designed to equip agents with proven strategies\, interactive practice\, and real-world accountability to spark real results in the next 90 days.\nIf you are interested in joining\, please reach out to Virginia Everard or scan the QR code\, today!
URL:https://bestchoicerealtyhomes.com/event/raindrop-to-rainmaker-evening-2-2-13/
CATEGORIES:ZOOM Webinar
ATTACH;FMTTYPE=image/jpeg:https://bestchoicerealtyhomes.com/wp-content/uploads/2025/07/Rainmaker_Header.jpg
END:VEVENT
BEGIN:VEVENT
DTSTART;TZID=America/Los_Angeles:20250925T160000
DTEND;TZID=America/Los_Angeles:20250925T190000
DTSTAMP:20260420T062506
CREATED:20250902T202354Z
LAST-MODIFIED:20250902T202354Z
UID:10002394-1758816000-1758826800@bestchoicerealtyhomes.com
SUMMARY:Contract Negotiation - ZOOM
DESCRIPTION:This class is intended as a part II to the WA Forms Foundations and is incredibly interactive. Together we review disclosures\, conduct and techniques for effective offer negotiation in a simulated multiple offer scenario. RSVP to reserve your seat. \nINSTRUCTOR: Candice Frazier \nCLOCK HOURS: 3 \nASSIGNMENT: YES – Submit a mock offer \nRSVP:  Please call 206-886-3986 or email support@bestchoicerealtywa.com
URL:https://bestchoicerealtyhomes.com/event/contract-negotiation-zoom/
CATEGORIES:Clock Hours (Continuing Education),ZOOM Webinar
ATTACH;FMTTYPE=image/jpeg:https://bestchoicerealtyhomes.com/wp-content/uploads/2023/12/Contract-NEGOTIATION_header.jpg
END:VEVENT
BEGIN:VEVENT
DTSTART;TZID=America/Los_Angeles:20250929T120000
DTEND;TZID=America/Los_Angeles:20250929T130000
DTSTAMP:20260420T062506
CREATED:20250905T220047Z
LAST-MODIFIED:20250905T220049Z
UID:10002458-1759147200-1759150800@bestchoicerealtyhomes.com
SUMMARY:Digital Business Foundations - Tukwila Office
DESCRIPTION:We will cover the key aspects of building and managing an online presence\, including tools like Google My Business\, Facebook Business Pages\, social media platforms\, and customer relationship management systems (CRMs).\nIt conveys a foundational\, practical approach to mastering the digital landscape for business. \nYou will need your computer or laptop\, along with your social media usernames and passwords! \nThis session will be held virtually\, on Zoom.\nTo reserve your seat please call 206-886-3986 or email support@bestchoicerealtywa.com to RSVP. \nINSTRUCTOR: Shannon Hall
URL:https://bestchoicerealtyhomes.com/event/digital-business-foundations-zoom-2-5/
LOCATION:16400 Southcenter Pkwy #306\, Tukwila\, WA 98188\, USA\, 16400 Southcenter Pkwy #306\, Seattle\, WA\, 98188\, United States
CATEGORIES:ZOOM Webinar
ATTACH;FMTTYPE=image/jpeg:https://bestchoicerealtyhomes.com/wp-content/uploads/2024/11/Digital-Business-FOUNDATIONS_header.jpg
GEO:47.4553749;-122.2623606
X-APPLE-STRUCTURED-LOCATION;VALUE=URI;X-ADDRESS=16400 Southcenter Pkwy #306 Tukwila WA 98188 USA 16400 Southcenter Pkwy #306 Seattle WA 98188 United States;X-APPLE-RADIUS=500;X-TITLE=16400 Southcenter Pkwy #306:geo:-122.2623606,47.4553749
END:VEVENT
BEGIN:VEVENT
DTSTART;TZID=America/Los_Angeles:20250929T173000
DTEND;TZID=America/Los_Angeles:20250929T180000
DTSTAMP:20260420T062506
CREATED:20250626T225433Z
LAST-MODIFIED:20251223T194415Z
UID:10002243-1759167000-1759168800@bestchoicerealtyhomes.com
SUMMARY:Monday Night Webinar - (Zoom)
DESCRIPTION:Stay ahead of the curve with our weekly discussions led by our managing brokers. Every Monday\, we dive into new topics covering current market trends\, interest rates\, and key updates—exploring what’s trending\, the challenges agents are facing\, and actionable strategies to stay ahead in the industry. \n\nZoom link emailed out on Mondays \nIf you’re unable to join live\, don’t worry! Most sessions are recorded and available for review on our website: bestchoicerealtyhomes.com/education.
URL:https://bestchoicerealtyhomes.com/event/monday-night-webinar-zoom-8/2025-09-29/
CATEGORIES:ZOOM Webinar
ATTACH;FMTTYPE=image/png:https://bestchoicerealtyhomes.com/wp-content/uploads/2023/12/Monday-Night-Webinar-Cover-1.png
LOCATION:https://bestchoicerealtyhomes.com/event/monday-night-webinar-zoom-8/2025-09-29/
END:VEVENT
END:VCALENDAR