BEGIN:VCALENDAR
VERSION:2.0
PRODID:-//Best Choice Realty - ECPv6.15.18//NONSGML v1.0//EN
CALSCALE:GREGORIAN
METHOD:PUBLISH
X-WR-CALNAME:Best Choice Realty
X-ORIGINAL-URL:https://bestchoicerealtyhomes.com
X-WR-CALDESC:Events for Best Choice Realty
REFRESH-INTERVAL;VALUE=DURATION:PT1H
X-Robots-Tag:noindex
X-PUBLISHED-TTL:PT1H
BEGIN:VTIMEZONE
TZID:America/Los_Angeles
BEGIN:DAYLIGHT
TZOFFSETFROM:-0800
TZOFFSETTO:-0700
TZNAME:PDT
DTSTART:20240310T100000
END:DAYLIGHT
BEGIN:STANDARD
TZOFFSETFROM:-0700
TZOFFSETTO:-0800
TZNAME:PST
DTSTART:20241103T090000
END:STANDARD
BEGIN:DAYLIGHT
TZOFFSETFROM:-0800
TZOFFSETTO:-0700
TZNAME:PDT
DTSTART:20250309T100000
END:DAYLIGHT
BEGIN:STANDARD
TZOFFSETFROM:-0700
TZOFFSETTO:-0800
TZNAME:PST
DTSTART:20251102T090000
END:STANDARD
BEGIN:DAYLIGHT
TZOFFSETFROM:-0800
TZOFFSETTO:-0700
TZNAME:PDT
DTSTART:20260308T100000
END:DAYLIGHT
BEGIN:STANDARD
TZOFFSETFROM:-0700
TZOFFSETTO:-0800
TZNAME:PST
DTSTART:20261101T090000
END:STANDARD
END:VTIMEZONE
BEGIN:VEVENT
DTSTART;TZID=America/Los_Angeles:20251001T090000
DTEND;TZID=America/Los_Angeles:20251001T100000
DTSTAMP:20260420T062323
CREATED:20250714T202334Z
LAST-MODIFIED:20250714T202334Z
UID:10002010-1759309200-1759312800@bestchoicerealtyhomes.com
SUMMARY:Rainmaker - Celebrations and Certificates!
DESCRIPTION:*Vision Board Event In-Office\n\nReady to double your business or finally build the real estate career you’ve envisioned? \nThe Rainmaker Training Series is a high-impact\, weekly coaching program designed to equip agents with proven strategies\, interactive practice\, and real-world accountability to spark real results in the next 90 days.\nIf you are interested in joining\, please reach out to Virginia Everard or scan the QR code\, today!
URL:https://bestchoicerealtyhomes.com/event/raindrop-to-rainmaker-morning-2-2-2-13/
CATEGORIES:ZOOM Webinar
ATTACH;FMTTYPE=image/jpeg:https://bestchoicerealtyhomes.com/wp-content/uploads/2025/07/Rainmaker_Header.jpg
END:VEVENT
BEGIN:VEVENT
DTSTART;TZID=America/Los_Angeles:20251001T170000
DTEND;TZID=America/Los_Angeles:20251001T180000
DTSTAMP:20260420T062323
CREATED:20250714T201620Z
LAST-MODIFIED:20250714T201622Z
UID:10002021-1759338000-1759341600@bestchoicerealtyhomes.com
SUMMARY:Rainmaker - Celebrations and Certificates!
DESCRIPTION:*Vision Board Event In-Office\n\nReady to double your business or finally build the real estate career you’ve envisioned? \nThe Rainmaker Training Series is a high-impact\, weekly coaching program designed to equip agents with proven strategies\, interactive practice\, and real-world accountability to spark real results in the next 90 days.\nIf you are interested in joining\, please reach out to Virginia Everard or scan the QR code\, today!
URL:https://bestchoicerealtyhomes.com/event/raindrop-to-rainmaker-evening-2-2-14/
CATEGORIES:ZOOM Webinar
ATTACH;FMTTYPE=image/jpeg:https://bestchoicerealtyhomes.com/wp-content/uploads/2025/07/Rainmaker_Header.jpg
END:VEVENT
BEGIN:VEVENT
DTSTART;TZID=America/Los_Angeles:20251013T173000
DTEND;TZID=America/Los_Angeles:20251013T180000
DTSTAMP:20260420T062323
CREATED:20250626T225433Z
LAST-MODIFIED:20251223T194415Z
UID:10002245-1760376600-1760378400@bestchoicerealtyhomes.com
SUMMARY:Monday Night Webinar - (Zoom)
DESCRIPTION:Stay ahead of the curve with our weekly discussions led by our managing brokers. Every Monday\, we dive into new topics covering current market trends\, interest rates\, and key updates—exploring what’s trending\, the challenges agents are facing\, and actionable strategies to stay ahead in the industry. \n\nZoom link emailed out on Mondays \nIf you’re unable to join live\, don’t worry! Most sessions are recorded and available for review on our website: bestchoicerealtyhomes.com/education.
URL:https://bestchoicerealtyhomes.com/event/monday-night-webinar-zoom-8/2025-10-13/
CATEGORIES:ZOOM Webinar
ATTACH;FMTTYPE=image/png:https://bestchoicerealtyhomes.com/wp-content/uploads/2023/12/Monday-Night-Webinar-Cover-1.png
LOCATION:https://bestchoicerealtyhomes.com/event/monday-night-webinar-zoom-8/2025-10-13/
END:VEVENT
BEGIN:VEVENT
DTSTART;TZID=America/Los_Angeles:20251017T120000
DTEND;TZID=America/Los_Angeles:20251017T130000
DTSTAMP:20260420T062323
CREATED:20251010T204714Z
LAST-MODIFIED:20251010T204714Z
UID:10002729-1760702400-1760706000@bestchoicerealtyhomes.com
SUMMARY:Best Choice Power Hour - AI Spotlight!
DESCRIPTION:AI Is Changing Everything! Are You Ready?\n\nAI isn’t coming….it’s already here. With Zillow now embedded in ChatGPT\, the future of real estate is unfolding faster than ever. Join owner and CEO of Best Choice Realty\, Rachelle Willhite\, on October 17th\, for our Best Choice Power Hour\, where we’ll unpack the latest AI breakthroughs and what they mean for your business. \nShe is excited to share new insights from the CMLS Conference in Toronto and the Idaho REALTORS Convention; two events that were completely buzzing with AI innovation.\nThis isn’t just tech talk\,  it’s your competitive edge. \nLooking forward to seeing you all there! \nLink to join: https://us02web.zoom.us/j/83496716486?pwd=PgKtZEgZxQHqJgvA8jekEBKk103gAO.1&jst=3
URL:https://bestchoicerealtyhomes.com/event/best-choice-power-hour-ai-spotlight/
CATEGORIES:ZOOM Webinar
ATTACH;FMTTYPE=image/jpeg:https://bestchoicerealtyhomes.com/wp-content/uploads/2025/07/BCR_PowerHour.jpg
END:VEVENT
BEGIN:VEVENT
DTSTART;TZID=America/Los_Angeles:20251018T090000
DTEND;TZID=America/Los_Angeles:20251018T120000
DTSTAMP:20260420T062323
CREATED:20250903T233408Z
LAST-MODIFIED:20250911T193228Z
UID:10002512-1760778000-1760788800@bestchoicerealtyhomes.com
SUMMARY:Contract Negotiation - ZOOM
DESCRIPTION:This class is intended as a part II to the WA Forms Foundations and is incredibly interactive. Together we review disclosures\, conduct and techniques for effective offer negotiation in a simulated multiple offer scenario. RSVP to reserve your seat. \nINSTRUCTOR: Virginia Everard \nCLOCK HOURS: 3 \nASSIGNMENT: YES – Submit a mock offer \n 
URL:https://bestchoicerealtyhomes.com/event/contract-negotiation-zoom-7/
CATEGORIES:Clock Hours (Continuing Education),ZOOM Webinar
ATTACH;FMTTYPE=image/jpeg:https://bestchoicerealtyhomes.com/wp-content/uploads/2023/12/Contract-NEGOTIATION_header.jpg
END:VEVENT
BEGIN:VEVENT
DTSTART;TZID=America/Los_Angeles:20251020T173000
DTEND;TZID=America/Los_Angeles:20251020T180000
DTSTAMP:20260420T062323
CREATED:20250626T225433Z
LAST-MODIFIED:20251223T194415Z
UID:10002887-1760981400-1760983200@bestchoicerealtyhomes.com
SUMMARY:Monday Night Webinar - (Zoom)
DESCRIPTION:Stay ahead of the curve with our weekly discussions led by our managing brokers. Every Monday\, we dive into new topics covering current market trends\, interest rates\, and key updates—exploring what’s trending\, the challenges agents are facing\, and actionable strategies to stay ahead in the industry. \n\nZoom link emailed out on Mondays \nIf you’re unable to join live\, don’t worry! Most sessions are recorded and available for review on our website: bestchoicerealtyhomes.com/education.
URL:https://bestchoicerealtyhomes.com/event/monday-night-webinar-zoom-8/2025-10-20/
CATEGORIES:ZOOM Webinar
ATTACH;FMTTYPE=image/png:https://bestchoicerealtyhomes.com/wp-content/uploads/2023/12/Monday-Night-Webinar-Cover-1.png
LOCATION:https://bestchoicerealtyhomes.com/event/monday-night-webinar-zoom-8/2025-10-20/
END:VEVENT
BEGIN:VEVENT
DTSTART;TZID=America/Los_Angeles:20251020T173000
DTEND;TZID=America/Los_Angeles:20251020T180000
DTSTAMP:20260420T062323
CREATED:20251020T203816Z
LAST-MODIFIED:20251020T203816Z
UID:10002246-1760981400-1760983200@bestchoicerealtyhomes.com
SUMMARY:Monday Night Webinar - (Zoom)
DESCRIPTION:Stay ahead of the curve with our weekly discussions led by our managing brokers. Every Monday\, we dive into new topics covering current market trends\, interest rates\, and key updates—exploring what’s trending\, the challenges agents are facing\, and actionable strategies to stay ahead in the industry. \n\nZoom link emailed out on Mondays \nIf you’re unable to join live\, don’t worry! Most sessions are recorded and available for review on our website: bestchoicerealtyhomes.com/education.
URL:https://bestchoicerealtyhomes.com/event/monday-night-webinar-zoom-9/
CATEGORIES:ZOOM Webinar
ATTACH;FMTTYPE=image/png:https://bestchoicerealtyhomes.com/wp-content/uploads/2023/12/Monday-Night-Webinar-Cover-1.png
END:VEVENT
BEGIN:VEVENT
DTSTART;TZID=America/Los_Angeles:20251022T180000
DTEND;TZID=America/Los_Angeles:20251022T190000
DTSTAMP:20260420T062323
CREATED:20251008T215950Z
LAST-MODIFIED:20251014T174337Z
UID:10002660-1761156000-1761159600@bestchoicerealtyhomes.com
SUMMARY:Rainmaker Unit One - Vision & Success
DESCRIPTION:The Rainmaker Series is a 4-month roadmap designed to help you build a consistent\, scalable real estate business – one habit\, one system\, and one powerful conversation at a time. \nVirginia Everard  |  Real Estate Coach \n\nIf you are interested in joining\, please reach out to Virginia Everard or scan the QR code\, today!
URL:https://bestchoicerealtyhomes.com/event/rainmaker-unit-one-vision-success/
CATEGORIES:ZOOM Webinar
ATTACH;FMTTYPE=image/jpeg:https://bestchoicerealtyhomes.com/wp-content/uploads/2025/07/Rainmaker_Header.jpg
END:VEVENT
BEGIN:VEVENT
DTSTART;TZID=America/Los_Angeles:20251023T170000
DTEND;TZID=America/Los_Angeles:20251023T200000
DTSTAMP:20260420T062323
CREATED:20250903T232327Z
LAST-MODIFIED:20251022T220927Z
UID:10002511-1761238800-1761249600@bestchoicerealtyhomes.com
SUMMARY:WA Forms Foundations – Zoom
DESCRIPTION:Gain a comprehensive understanding of how to present the Buyer Representation Agreement\, Purchase and Sale Agreement\, and related addenda with confidence and clarity. \nThis training provides real-world scenarios and practical narratives to illustrate the significance of each contract term\, equipping you with the language and strategies to effectively communicate their value to your clients. \nINSTRUCTOR: Candice Frazier \nFree with an Option to pay for CLOCK HOURS: 3 \nASSIGNMENT: NONE
URL:https://bestchoicerealtyhomes.com/event/wa-forms-foundations-zoom/
CATEGORIES:Clock Hours (Continuing Education),ZOOM Webinar
ATTACH;FMTTYPE=image/jpeg:https://bestchoicerealtyhomes.com/wp-content/uploads/2023/12/WA-Forms-FOUNDATIONS_header.jpg
END:VEVENT
BEGIN:VEVENT
DTSTART;TZID=America/Los_Angeles:20251027T173000
DTEND;TZID=America/Los_Angeles:20251027T180000
DTSTAMP:20260420T062323
CREATED:20250626T225433Z
LAST-MODIFIED:20251223T194415Z
UID:10002247-1761586200-1761588000@bestchoicerealtyhomes.com
SUMMARY:Monday Night Webinar - (Zoom)
DESCRIPTION:Stay ahead of the curve with our weekly discussions led by our managing brokers. Every Monday\, we dive into new topics covering current market trends\, interest rates\, and key updates—exploring what’s trending\, the challenges agents are facing\, and actionable strategies to stay ahead in the industry. \n\nZoom link emailed out on Mondays \nIf you’re unable to join live\, don’t worry! Most sessions are recorded and available for review on our website: bestchoicerealtyhomes.com/education.
URL:https://bestchoicerealtyhomes.com/event/monday-night-webinar-zoom-8/2025-10-27/
CATEGORIES:ZOOM Webinar
ATTACH;FMTTYPE=image/png:https://bestchoicerealtyhomes.com/wp-content/uploads/2023/12/Monday-Night-Webinar-Cover-1.png
LOCATION:https://bestchoicerealtyhomes.com/event/monday-night-webinar-zoom-8/2025-10-27/
END:VEVENT
BEGIN:VEVENT
DTSTART;TZID=America/Los_Angeles:20251029T180000
DTEND;TZID=America/Los_Angeles:20251029T190000
DTSTAMP:20260420T062323
CREATED:20251008T220132Z
LAST-MODIFIED:20251014T174310Z
UID:10002661-1761760800-1761764400@bestchoicerealtyhomes.com
SUMMARY:Rainmaker Unit Two - Million Dollar Formula
DESCRIPTION:The Rainmaker Series is a 4-month roadmap designed to help you build a consistent\, scalable real estate business – one habit\, one system\, and one powerful conversation at a time. \nVirginia Everard  |  Real Estate Coach \n\nIf you are interested in joining\, please reach out to Virginia Everard or scan the QR code\, today!
URL:https://bestchoicerealtyhomes.com/event/rainmaker-unit-two-million-dollar-formula/
CATEGORIES:ZOOM Webinar
ATTACH;FMTTYPE=image/jpeg:https://bestchoicerealtyhomes.com/wp-content/uploads/2025/07/Rainmaker_Header.jpg
END:VEVENT
END:VCALENDAR