BEGIN:VCALENDAR
VERSION:2.0
PRODID:-//Best Choice Realty - ECPv6.15.18//NONSGML v1.0//EN
CALSCALE:GREGORIAN
METHOD:PUBLISH
X-WR-CALNAME:Best Choice Realty
X-ORIGINAL-URL:https://bestchoicerealtyhomes.com
X-WR-CALDESC:Events for Best Choice Realty
REFRESH-INTERVAL;VALUE=DURATION:PT1H
X-Robots-Tag:noindex
X-PUBLISHED-TTL:PT1H
BEGIN:VTIMEZONE
TZID:America/Los_Angeles
BEGIN:DAYLIGHT
TZOFFSETFROM:-0800
TZOFFSETTO:-0700
TZNAME:PDT
DTSTART:20240310T100000
END:DAYLIGHT
BEGIN:STANDARD
TZOFFSETFROM:-0700
TZOFFSETTO:-0800
TZNAME:PST
DTSTART:20241103T090000
END:STANDARD
BEGIN:DAYLIGHT
TZOFFSETFROM:-0800
TZOFFSETTO:-0700
TZNAME:PDT
DTSTART:20250309T100000
END:DAYLIGHT
BEGIN:STANDARD
TZOFFSETFROM:-0700
TZOFFSETTO:-0800
TZNAME:PST
DTSTART:20251102T090000
END:STANDARD
BEGIN:DAYLIGHT
TZOFFSETFROM:-0800
TZOFFSETTO:-0700
TZNAME:PDT
DTSTART:20260308T100000
END:DAYLIGHT
BEGIN:STANDARD
TZOFFSETFROM:-0700
TZOFFSETTO:-0800
TZNAME:PST
DTSTART:20261101T090000
END:STANDARD
END:VTIMEZONE
BEGIN:VEVENT
DTSTART;TZID=America/Los_Angeles:20250813T090000
DTEND;TZID=America/Los_Angeles:20250813T100000
DTSTAMP:20260424T014946
CREATED:20250709T232030Z
LAST-MODIFIED:20250710T211507Z
UID:10002003-1755075600-1755079200@bestchoicerealtyhomes.com
SUMMARY:Rainmaker - Contracts
DESCRIPTION:*Writing an offer\, offer negotiation\, transaction checklists\, Paperless Pipeline\, TransactionDesk/FormSimplicity. \nReady to double your business or finally build the real estate career you’ve envisioned? \nThe Rainmaker Training Series is a high-impact\, weekly coaching program designed to equip agents with proven strategies\, interactive practice\, and real-world accountability to spark real results in the next 90 days.\nIf you are interested in joining\, please reach out to Virginia Everard or scan the QR code\, today!
URL:https://bestchoicerealtyhomes.com/event/raindrop-to-rainmaker-morning-2-2-2-6/
CATEGORIES:ZOOM Webinar
ATTACH;FMTTYPE=image/jpeg:https://bestchoicerealtyhomes.com/wp-content/uploads/2025/07/Rainmaker_Header.jpg
END:VEVENT
BEGIN:VEVENT
DTSTART;TZID=America/Los_Angeles:20250813T170000
DTEND;TZID=America/Los_Angeles:20250813T180000
DTSTAMP:20260424T014946
CREATED:20250709T231145Z
LAST-MODIFIED:20250710T212638Z
UID:10002014-1755104400-1755108000@bestchoicerealtyhomes.com
SUMMARY:Rainmaker - Contracts
DESCRIPTION:*Writing an offer\, offer negotiation\, transaction checklists\, Paperless Pipeline\, TransactionDesk/FormSimplicity. \nReady to double your business or finally build the real estate career you’ve envisioned? \nThe Rainmaker Training Series is a high-impact\, weekly coaching program designed to equip agents with proven strategies\, interactive practice\, and real-world accountability to spark real results in the next 90 days.\nIf you are interested in joining\, please reach out to Virginia Everard or scan the QR code\, today!
URL:https://bestchoicerealtyhomes.com/event/raindrop-to-rainmaker-evening-2-2-7/
CATEGORIES:ZOOM Webinar
ATTACH;FMTTYPE=image/jpeg:https://bestchoicerealtyhomes.com/wp-content/uploads/2025/07/Rainmaker_Header.jpg
END:VEVENT
END:VCALENDAR