BEGIN:VCALENDAR
VERSION:2.0
PRODID:-//Best Choice Realty - ECPv6.15.18//NONSGML v1.0//EN
CALSCALE:GREGORIAN
METHOD:PUBLISH
X-WR-CALNAME:Best Choice Realty
X-ORIGINAL-URL:https://bestchoicerealtyhomes.com
X-WR-CALDESC:Events for Best Choice Realty
REFRESH-INTERVAL;VALUE=DURATION:PT1H
X-Robots-Tag:noindex
X-PUBLISHED-TTL:PT1H
BEGIN:VTIMEZONE
TZID:America/Los_Angeles
BEGIN:DAYLIGHT
TZOFFSETFROM:-0800
TZOFFSETTO:-0700
TZNAME:PDT
DTSTART:20240310T100000
END:DAYLIGHT
BEGIN:STANDARD
TZOFFSETFROM:-0700
TZOFFSETTO:-0800
TZNAME:PST
DTSTART:20241103T090000
END:STANDARD
BEGIN:DAYLIGHT
TZOFFSETFROM:-0800
TZOFFSETTO:-0700
TZNAME:PDT
DTSTART:20250309T100000
END:DAYLIGHT
BEGIN:STANDARD
TZOFFSETFROM:-0700
TZOFFSETTO:-0800
TZNAME:PST
DTSTART:20251102T090000
END:STANDARD
BEGIN:DAYLIGHT
TZOFFSETFROM:-0800
TZOFFSETTO:-0700
TZNAME:PDT
DTSTART:20260308T100000
END:DAYLIGHT
BEGIN:STANDARD
TZOFFSETFROM:-0700
TZOFFSETTO:-0800
TZNAME:PST
DTSTART:20261101T090000
END:STANDARD
END:VTIMEZONE
BEGIN:VEVENT
DTSTART;TZID=America/Los_Angeles:20250917T090000
DTEND;TZID=America/Los_Angeles:20250917T100000
DTSTAMP:20260420T081238
CREATED:20250710T230258Z
LAST-MODIFIED:20250710T230259Z
UID:10002008-1758099600-1758103200@bestchoicerealtyhomes.com
SUMMARY:Rainmaker – The Deal Doctor; Saving Contracts Before They Flatline
DESCRIPTION:*Difficult clients and situations\, understanding remorse and contingencies.\n\nReady to double your business or finally build the real estate career you’ve envisioned? \nThe Rainmaker Training Series is a high-impact\, weekly coaching program designed to equip agents with proven strategies\, interactive practice\, and real-world accountability to spark real results in the next 90 days.\nIf you are interested in joining\, please reach out to Virginia Everard or scan the QR code\, today!
URL:https://bestchoicerealtyhomes.com/event/raindrop-to-rainmaker-morning-2-2-2-11/
CATEGORIES:ZOOM Webinar
ATTACH;FMTTYPE=image/jpeg:https://bestchoicerealtyhomes.com/wp-content/uploads/2025/07/Rainmaker_Header.jpg
END:VEVENT
BEGIN:VEVENT
DTSTART;TZID=America/Los_Angeles:20250917T120000
DTEND;TZID=America/Los_Angeles:20250917T130000
DTSTAMP:20260420T081238
CREATED:20250813T215242Z
LAST-MODIFIED:20250916T212056Z
UID:10002293-1758110400-1758114000@bestchoicerealtyhomes.com
SUMMARY:Power Hour with Debbie De Grote; Handling Price Reductions with Confidence!
DESCRIPTION:Handling Price Reductions with Confidence\nDuring this Power Hour\, you’ll discover: \n\nWhy price reductions are crucial to maintaining a competitive edge\nHow to approach your seller with a price reduction recommendation using market data and buyer feedback\nScripts to manage seller expectations\n\nPlease join us\, with special guest trainer\, Debbie De Grote\, CEO and Co-Founder of Forward Coaching. \n  \nLink to join: https://us02web.zoom.us/j/83496716486?pwd=PgKtZEgZxQHqJgvA8jekEBKk103gAO.1&jst=3
URL:https://bestchoicerealtyhomes.com/event/best-choice-power-hour-handling-price-reductions-with-confidence/
CATEGORIES:ZOOM Webinar
ATTACH;FMTTYPE=image/jpeg:https://bestchoicerealtyhomes.com/wp-content/uploads/2025/07/BCR_PowerHour.jpg
END:VEVENT
BEGIN:VEVENT
DTSTART;TZID=America/Los_Angeles:20250917T170000
DTEND;TZID=America/Los_Angeles:20250917T180000
DTSTAMP:20260420T081238
CREATED:20250710T230057Z
LAST-MODIFIED:20250710T230345Z
UID:10002019-1758128400-1758132000@bestchoicerealtyhomes.com
SUMMARY:Rainmaker - The Deal Doctor; Saving Contracts Before They Flatline
DESCRIPTION:*Difficult clients and situations\, understanding remorse and contingencies.\n\nReady to double your business or finally build the real estate career you’ve envisioned? \nThe Rainmaker Training Series is a high-impact\, weekly coaching program designed to equip agents with proven strategies\, interactive practice\, and real-world accountability to spark real results in the next 90 days.\nIf you are interested in joining\, please reach out to Virginia Everard or scan the QR code\, today!
URL:https://bestchoicerealtyhomes.com/event/raindrop-to-rainmaker-evening-2-2-12/
CATEGORIES:ZOOM Webinar
ATTACH;FMTTYPE=image/jpeg:https://bestchoicerealtyhomes.com/wp-content/uploads/2025/07/Rainmaker_Header.jpg
END:VEVENT
END:VCALENDAR