BEGIN:VCALENDAR
VERSION:2.0
PRODID:-//Best Choice Realty - ECPv6.15.18//NONSGML v1.0//EN
CALSCALE:GREGORIAN
METHOD:PUBLISH
X-ORIGINAL-URL:https://bestchoicerealtyhomes.com
X-WR-CALDESC:Events for Best Choice Realty
REFRESH-INTERVAL;VALUE=DURATION:PT1H
X-Robots-Tag:noindex
X-PUBLISHED-TTL:PT1H
BEGIN:VTIMEZONE
TZID:America/Los_Angeles
BEGIN:DAYLIGHT
TZOFFSETFROM:-0800
TZOFFSETTO:-0700
TZNAME:PDT
DTSTART:20240310T100000
END:DAYLIGHT
BEGIN:STANDARD
TZOFFSETFROM:-0700
TZOFFSETTO:-0800
TZNAME:PST
DTSTART:20241103T090000
END:STANDARD
BEGIN:DAYLIGHT
TZOFFSETFROM:-0800
TZOFFSETTO:-0700
TZNAME:PDT
DTSTART:20250309T100000
END:DAYLIGHT
BEGIN:STANDARD
TZOFFSETFROM:-0700
TZOFFSETTO:-0800
TZNAME:PST
DTSTART:20251102T090000
END:STANDARD
BEGIN:DAYLIGHT
TZOFFSETFROM:-0800
TZOFFSETTO:-0700
TZNAME:PDT
DTSTART:20260308T100000
END:DAYLIGHT
BEGIN:STANDARD
TZOFFSETFROM:-0700
TZOFFSETTO:-0800
TZNAME:PST
DTSTART:20261101T090000
END:STANDARD
END:VTIMEZONE
BEGIN:VEVENT
DTSTART;TZID=America/Los_Angeles:20250919T100000
DTEND;TZID=America/Los_Angeles:20250919T130000
DTSTAMP:20260420T081412
CREATED:20250902T194707Z
LAST-MODIFIED:20250902T200441Z
UID:10002393-1758276000-1758286800@bestchoicerealtyhomes.com
SUMMARY:WA Forms Foundations – Tukwila Office
DESCRIPTION:Gain a comprehensive understanding of how to present the Buyer Representation Agreement\, Purchase and Sale Agreement\, and related addenda with confidence and clarity. \nThis training provides real-world scenarios and practical narratives to illustrate the significance of each contract term\, equipping you with the language and strategies to effectively communicate their value to your clients. \nTo reserve your seat please call 206-886-3986 or email support@bestchoicerealtywa.com to RSVP. \nINSTRUCTOR: Jenny Hook \nFree with an Option to pay for CLOCK HOURS: 3 \nASSIGNMENT: NONE \n  \nTo reserve your seat please call 206-886-3986 or email support@bestchoicerealtywa.com to RSVP.
URL:https://bestchoicerealtyhomes.com/event/wa-forms-foundations-tukwila-office/
LOCATION:16400 Southcenter Pkwy #306\, Tukwila\, WA 98188\, USA\, 16400 Southcenter Pkwy #306\, Seattle\, WA\, 98188\, United States
CATEGORIES:Clock Hours (Continuing Education),ZOOM Webinar
ATTACH;FMTTYPE=image/jpeg:https://bestchoicerealtyhomes.com/wp-content/uploads/2023/12/WA-Forms-FOUNDATIONS_header.jpg
GEO:47.4553749;-122.2623606
X-APPLE-STRUCTURED-LOCATION;VALUE=URI;X-ADDRESS=16400 Southcenter Pkwy #306 Tukwila WA 98188 USA 16400 Southcenter Pkwy #306 Seattle WA 98188 United States;X-APPLE-RADIUS=500;X-TITLE=16400 Southcenter Pkwy #306:geo:-122.2623606,47.4553749
END:VEVENT
END:VCALENDAR