BEGIN:VCALENDAR
VERSION:2.0
PRODID:-//Best Choice Realty - ECPv6.15.18//NONSGML v1.0//EN
CALSCALE:GREGORIAN
METHOD:PUBLISH
X-ORIGINAL-URL:https://bestchoicerealtyhomes.com
X-WR-CALDESC:Events for Best Choice Realty
REFRESH-INTERVAL;VALUE=DURATION:PT1H
X-Robots-Tag:noindex
X-PUBLISHED-TTL:PT1H
BEGIN:VTIMEZONE
TZID:America/Los_Angeles
BEGIN:DAYLIGHT
TZOFFSETFROM:-0800
TZOFFSETTO:-0700
TZNAME:PDT
DTSTART:20240310T100000
END:DAYLIGHT
BEGIN:STANDARD
TZOFFSETFROM:-0700
TZOFFSETTO:-0800
TZNAME:PST
DTSTART:20241103T090000
END:STANDARD
BEGIN:DAYLIGHT
TZOFFSETFROM:-0800
TZOFFSETTO:-0700
TZNAME:PDT
DTSTART:20250309T100000
END:DAYLIGHT
BEGIN:STANDARD
TZOFFSETFROM:-0700
TZOFFSETTO:-0800
TZNAME:PST
DTSTART:20251102T090000
END:STANDARD
BEGIN:DAYLIGHT
TZOFFSETFROM:-0800
TZOFFSETTO:-0700
TZNAME:PDT
DTSTART:20260308T100000
END:DAYLIGHT
BEGIN:STANDARD
TZOFFSETFROM:-0700
TZOFFSETTO:-0800
TZNAME:PST
DTSTART:20261101T090000
END:STANDARD
END:VTIMEZONE
BEGIN:VEVENT
DTSTART;TZID=America/Los_Angeles:20250924T090000
DTEND;TZID=America/Los_Angeles:20250924T100000
DTSTAMP:20260420T111850
CREATED:20250710T232251Z
LAST-MODIFIED:20250714T201915Z
UID:10002009-1758704400-1758708000@bestchoicerealtyhomes.com
SUMMARY:Rainmaker - Run Your Business Like a Business
DESCRIPTION:*Business licensing\, finances\, deductions\, P&L\, Balance Sheet\, taxes overview. \n\nReady to double your business or finally build the real estate career you’ve envisioned? \nThe Rainmaker Training Series is a high-impact\, weekly coaching program designed to equip agents with proven strategies\, interactive practice\, and real-world accountability to spark real results in the next 90 days.\nIf you are interested in joining\, please reach out to Virginia Everard or scan the QR code\, today! \n \n\n 
URL:https://bestchoicerealtyhomes.com/event/raindrop-to-rainmaker-morning-2-2-2-12/
CATEGORIES:ZOOM Webinar
ATTACH;FMTTYPE=image/jpeg:https://bestchoicerealtyhomes.com/wp-content/uploads/2025/07/Rainmaker_Header.jpg
END:VEVENT
BEGIN:VEVENT
DTSTART;TZID=America/Los_Angeles:20250924T170000
DTEND;TZID=America/Los_Angeles:20250924T180000
DTSTAMP:20260420T111850
CREATED:20250710T233014Z
LAST-MODIFIED:20250714T201730Z
UID:10002020-1758733200-1758736800@bestchoicerealtyhomes.com
SUMMARY:Rainmaker - Run Your Business Like a Business
DESCRIPTION:*Business licensing\, finances\, deductions\, P&L\, Balance Sheet\, taxes overview. \n\nReady to double your business or finally build the real estate career you’ve envisioned? \nThe Rainmaker Training Series is a high-impact\, weekly coaching program designed to equip agents with proven strategies\, interactive practice\, and real-world accountability to spark real results in the next 90 days.\nIf you are interested in joining\, please reach out to Virginia Everard or scan the QR code\, today!
URL:https://bestchoicerealtyhomes.com/event/raindrop-to-rainmaker-evening-2-2-13/
CATEGORIES:ZOOM Webinar
ATTACH;FMTTYPE=image/jpeg:https://bestchoicerealtyhomes.com/wp-content/uploads/2025/07/Rainmaker_Header.jpg
END:VEVENT
END:VCALENDAR