BEGIN:VCALENDAR
VERSION:2.0
PRODID:-//Best Choice Realty - ECPv6.15.18//NONSGML v1.0//EN
CALSCALE:GREGORIAN
METHOD:PUBLISH
X-WR-CALNAME:Best Choice Realty
X-ORIGINAL-URL:https://bestchoicerealtyhomes.com
X-WR-CALDESC:Events for Best Choice Realty
REFRESH-INTERVAL;VALUE=DURATION:PT1H
X-Robots-Tag:noindex
X-PUBLISHED-TTL:PT1H
BEGIN:VTIMEZONE
TZID:America/Los_Angeles
BEGIN:DAYLIGHT
TZOFFSETFROM:-0800
TZOFFSETTO:-0700
TZNAME:PDT
DTSTART:20250309T100000
END:DAYLIGHT
BEGIN:STANDARD
TZOFFSETFROM:-0700
TZOFFSETTO:-0800
TZNAME:PST
DTSTART:20251102T090000
END:STANDARD
BEGIN:DAYLIGHT
TZOFFSETFROM:-0800
TZOFFSETTO:-0700
TZNAME:PDT
DTSTART:20260308T100000
END:DAYLIGHT
BEGIN:STANDARD
TZOFFSETFROM:-0700
TZOFFSETTO:-0800
TZNAME:PST
DTSTART:20261101T090000
END:STANDARD
BEGIN:DAYLIGHT
TZOFFSETFROM:-0800
TZOFFSETTO:-0700
TZNAME:PDT
DTSTART:20270314T100000
END:DAYLIGHT
BEGIN:STANDARD
TZOFFSETFROM:-0700
TZOFFSETTO:-0800
TZNAME:PST
DTSTART:20271107T090000
END:STANDARD
END:VTIMEZONE
BEGIN:VEVENT
DTSTART;TZID=America/Los_Angeles:20260504T100000
DTEND;TZID=America/Los_Angeles:20260504T130000
DTSTAMP:20260423T045629
CREATED:20251017T182419Z
LAST-MODIFIED:20251222T222007Z
UID:10002827-1777888800-1777899600@bestchoicerealtyhomes.com
SUMMARY:Best Choice Agent Orientation
DESCRIPTION:Join the Best Choice Family and Experience Our Signature Agent Orientation!\nAt Best Choice\, we prefer to welcome our new and transferring agents by launching them into success! Our comprehensive Agent Orientation is designed to equip you with everything you need to hit the ground running and build a thriving business. \nWhat’s Included in Orientation: \n\nPersonalized marketing materials: business cards\, email signature\, social media graphics\, website setup\, and more\nA full walkthrough of the resources and support systems available to you at Best Choice\nHands-on training with the technology tools and platforms that will elevate your business\nExpert guidance on how to get started\, stay organized\, and grow your brand\n\nThis orientation is just one of the many ways we invest in our agents from day one. Whether you’re brand new or making a move\, we are ready to help you thrive. \nFor more information\, call us at 425.677.6966​. We can’t wait to welcome you to the family!
URL:https://bestchoicerealtyhomes.com/event/best-choice-agent-orientation/2026-05-04/
END:VEVENT
BEGIN:VEVENT
DTSTART;TZID=America/Los_Angeles:20260518T100000
DTEND;TZID=America/Los_Angeles:20260518T130000
DTSTAMP:20260423T045629
CREATED:20251017T182419Z
LAST-MODIFIED:20251222T222007Z
UID:10002829-1779098400-1779109200@bestchoicerealtyhomes.com
SUMMARY:Best Choice Agent Orientation
DESCRIPTION:Join the Best Choice Family and Experience Our Signature Agent Orientation!\nAt Best Choice\, we prefer to welcome our new and transferring agents by launching them into success! Our comprehensive Agent Orientation is designed to equip you with everything you need to hit the ground running and build a thriving business. \nWhat’s Included in Orientation: \n\nPersonalized marketing materials: business cards\, email signature\, social media graphics\, website setup\, and more\nA full walkthrough of the resources and support systems available to you at Best Choice\nHands-on training with the technology tools and platforms that will elevate your business\nExpert guidance on how to get started\, stay organized\, and grow your brand\n\nThis orientation is just one of the many ways we invest in our agents from day one. Whether you’re brand new or making a move\, we are ready to help you thrive. \nFor more information\, call us at 425.677.6966​. We can’t wait to welcome you to the family!
URL:https://bestchoicerealtyhomes.com/event/best-choice-agent-orientation/2026-05-18/
END:VEVENT
BEGIN:VEVENT
DTSTART;TZID=America/Los_Angeles:20260601T100000
DTEND;TZID=America/Los_Angeles:20260601T130000
DTSTAMP:20260423T045629
CREATED:20251017T182419Z
LAST-MODIFIED:20251222T222007Z
UID:10002831-1780308000-1780318800@bestchoicerealtyhomes.com
SUMMARY:Best Choice Agent Orientation
DESCRIPTION:Join the Best Choice Family and Experience Our Signature Agent Orientation!\nAt Best Choice\, we prefer to welcome our new and transferring agents by launching them into success! Our comprehensive Agent Orientation is designed to equip you with everything you need to hit the ground running and build a thriving business. \nWhat’s Included in Orientation: \n\nPersonalized marketing materials: business cards\, email signature\, social media graphics\, website setup\, and more\nA full walkthrough of the resources and support systems available to you at Best Choice\nHands-on training with the technology tools and platforms that will elevate your business\nExpert guidance on how to get started\, stay organized\, and grow your brand\n\nThis orientation is just one of the many ways we invest in our agents from day one. Whether you’re brand new or making a move\, we are ready to help you thrive. \nFor more information\, call us at 425.677.6966​. We can’t wait to welcome you to the family!
URL:https://bestchoicerealtyhomes.com/event/best-choice-agent-orientation/2026-06-01/
END:VEVENT
BEGIN:VEVENT
DTSTART;TZID=America/Los_Angeles:20260615T100000
DTEND;TZID=America/Los_Angeles:20260615T130000
DTSTAMP:20260423T045629
CREATED:20251017T182419Z
LAST-MODIFIED:20251222T222007Z
UID:10002833-1781517600-1781528400@bestchoicerealtyhomes.com
SUMMARY:Best Choice Agent Orientation
DESCRIPTION:Join the Best Choice Family and Experience Our Signature Agent Orientation!\nAt Best Choice\, we prefer to welcome our new and transferring agents by launching them into success! Our comprehensive Agent Orientation is designed to equip you with everything you need to hit the ground running and build a thriving business. \nWhat’s Included in Orientation: \n\nPersonalized marketing materials: business cards\, email signature\, social media graphics\, website setup\, and more\nA full walkthrough of the resources and support systems available to you at Best Choice\nHands-on training with the technology tools and platforms that will elevate your business\nExpert guidance on how to get started\, stay organized\, and grow your brand\n\nThis orientation is just one of the many ways we invest in our agents from day one. Whether you’re brand new or making a move\, we are ready to help you thrive. \nFor more information\, call us at 425.677.6966​. We can’t wait to welcome you to the family!
URL:https://bestchoicerealtyhomes.com/event/best-choice-agent-orientation/2026-06-15/
END:VEVENT
BEGIN:VEVENT
DTSTART;TZID=America/Los_Angeles:20260629T100000
DTEND;TZID=America/Los_Angeles:20260629T130000
DTSTAMP:20260423T045629
CREATED:20251017T182419Z
LAST-MODIFIED:20251222T222007Z
UID:10002835-1782727200-1782738000@bestchoicerealtyhomes.com
SUMMARY:Best Choice Agent Orientation
DESCRIPTION:Join the Best Choice Family and Experience Our Signature Agent Orientation!\nAt Best Choice\, we prefer to welcome our new and transferring agents by launching them into success! Our comprehensive Agent Orientation is designed to equip you with everything you need to hit the ground running and build a thriving business. \nWhat’s Included in Orientation: \n\nPersonalized marketing materials: business cards\, email signature\, social media graphics\, website setup\, and more\nA full walkthrough of the resources and support systems available to you at Best Choice\nHands-on training with the technology tools and platforms that will elevate your business\nExpert guidance on how to get started\, stay organized\, and grow your brand\n\nThis orientation is just one of the many ways we invest in our agents from day one. Whether you’re brand new or making a move\, we are ready to help you thrive. \nFor more information\, call us at 425.677.6966​. We can’t wait to welcome you to the family!
URL:https://bestchoicerealtyhomes.com/event/best-choice-agent-orientation/2026-06-29/
END:VEVENT
BEGIN:VEVENT
DTSTART;TZID=America/Los_Angeles:20260713T100000
DTEND;TZID=America/Los_Angeles:20260713T130000
DTSTAMP:20260423T045629
CREATED:20251017T182419Z
LAST-MODIFIED:20251222T222007Z
UID:10002837-1783936800-1783947600@bestchoicerealtyhomes.com
SUMMARY:Best Choice Agent Orientation
DESCRIPTION:Join the Best Choice Family and Experience Our Signature Agent Orientation!\nAt Best Choice\, we prefer to welcome our new and transferring agents by launching them into success! Our comprehensive Agent Orientation is designed to equip you with everything you need to hit the ground running and build a thriving business. \nWhat’s Included in Orientation: \n\nPersonalized marketing materials: business cards\, email signature\, social media graphics\, website setup\, and more\nA full walkthrough of the resources and support systems available to you at Best Choice\nHands-on training with the technology tools and platforms that will elevate your business\nExpert guidance on how to get started\, stay organized\, and grow your brand\n\nThis orientation is just one of the many ways we invest in our agents from day one. Whether you’re brand new or making a move\, we are ready to help you thrive. \nFor more information\, call us at 425.677.6966​. We can’t wait to welcome you to the family!
URL:https://bestchoicerealtyhomes.com/event/best-choice-agent-orientation/2026-07-13/
END:VEVENT
BEGIN:VEVENT
DTSTART;TZID=America/Los_Angeles:20260727T100000
DTEND;TZID=America/Los_Angeles:20260727T130000
DTSTAMP:20260423T045629
CREATED:20251017T182419Z
LAST-MODIFIED:20251222T222007Z
UID:10002839-1785146400-1785157200@bestchoicerealtyhomes.com
SUMMARY:Best Choice Agent Orientation
DESCRIPTION:Join the Best Choice Family and Experience Our Signature Agent Orientation!\nAt Best Choice\, we prefer to welcome our new and transferring agents by launching them into success! Our comprehensive Agent Orientation is designed to equip you with everything you need to hit the ground running and build a thriving business. \nWhat’s Included in Orientation: \n\nPersonalized marketing materials: business cards\, email signature\, social media graphics\, website setup\, and more\nA full walkthrough of the resources and support systems available to you at Best Choice\nHands-on training with the technology tools and platforms that will elevate your business\nExpert guidance on how to get started\, stay organized\, and grow your brand\n\nThis orientation is just one of the many ways we invest in our agents from day one. Whether you’re brand new or making a move\, we are ready to help you thrive. \nFor more information\, call us at 425.677.6966​. We can’t wait to welcome you to the family!
URL:https://bestchoicerealtyhomes.com/event/best-choice-agent-orientation/2026-07-27/
END:VEVENT
BEGIN:VEVENT
DTSTART;TZID=America/Los_Angeles:20260810T100000
DTEND;TZID=America/Los_Angeles:20260810T130000
DTSTAMP:20260423T045629
CREATED:20251017T182419Z
LAST-MODIFIED:20251222T222007Z
UID:10002841-1786356000-1786366800@bestchoicerealtyhomes.com
SUMMARY:Best Choice Agent Orientation
DESCRIPTION:Join the Best Choice Family and Experience Our Signature Agent Orientation!\nAt Best Choice\, we prefer to welcome our new and transferring agents by launching them into success! Our comprehensive Agent Orientation is designed to equip you with everything you need to hit the ground running and build a thriving business. \nWhat’s Included in Orientation: \n\nPersonalized marketing materials: business cards\, email signature\, social media graphics\, website setup\, and more\nA full walkthrough of the resources and support systems available to you at Best Choice\nHands-on training with the technology tools and platforms that will elevate your business\nExpert guidance on how to get started\, stay organized\, and grow your brand\n\nThis orientation is just one of the many ways we invest in our agents from day one. Whether you’re brand new or making a move\, we are ready to help you thrive. \nFor more information\, call us at 425.677.6966​. We can’t wait to welcome you to the family!
URL:https://bestchoicerealtyhomes.com/event/best-choice-agent-orientation/2026-08-10/
END:VEVENT
BEGIN:VEVENT
DTSTART;TZID=America/Los_Angeles:20260824T100000
DTEND;TZID=America/Los_Angeles:20260824T130000
DTSTAMP:20260423T045629
CREATED:20251017T182419Z
LAST-MODIFIED:20251222T222007Z
UID:10002843-1787565600-1787576400@bestchoicerealtyhomes.com
SUMMARY:Best Choice Agent Orientation
DESCRIPTION:Join the Best Choice Family and Experience Our Signature Agent Orientation!\nAt Best Choice\, we prefer to welcome our new and transferring agents by launching them into success! Our comprehensive Agent Orientation is designed to equip you with everything you need to hit the ground running and build a thriving business. \nWhat’s Included in Orientation: \n\nPersonalized marketing materials: business cards\, email signature\, social media graphics\, website setup\, and more\nA full walkthrough of the resources and support systems available to you at Best Choice\nHands-on training with the technology tools and platforms that will elevate your business\nExpert guidance on how to get started\, stay organized\, and grow your brand\n\nThis orientation is just one of the many ways we invest in our agents from day one. Whether you’re brand new or making a move\, we are ready to help you thrive. \nFor more information\, call us at 425.677.6966​. We can’t wait to welcome you to the family!
URL:https://bestchoicerealtyhomes.com/event/best-choice-agent-orientation/2026-08-24/
END:VEVENT
BEGIN:VEVENT
DTSTART;TZID=America/Los_Angeles:20260914T100000
DTEND;TZID=America/Los_Angeles:20260914T130000
DTSTAMP:20260423T045629
CREATED:20251017T182419Z
LAST-MODIFIED:20251222T222007Z
UID:10002846-1789380000-1789390800@bestchoicerealtyhomes.com
SUMMARY:Best Choice Agent Orientation
DESCRIPTION:Join the Best Choice Family and Experience Our Signature Agent Orientation!\nAt Best Choice\, we prefer to welcome our new and transferring agents by launching them into success! Our comprehensive Agent Orientation is designed to equip you with everything you need to hit the ground running and build a thriving business. \nWhat’s Included in Orientation: \n\nPersonalized marketing materials: business cards\, email signature\, social media graphics\, website setup\, and more\nA full walkthrough of the resources and support systems available to you at Best Choice\nHands-on training with the technology tools and platforms that will elevate your business\nExpert guidance on how to get started\, stay organized\, and grow your brand\n\nThis orientation is just one of the many ways we invest in our agents from day one. Whether you’re brand new or making a move\, we are ready to help you thrive. \nFor more information\, call us at 425.677.6966​. We can’t wait to welcome you to the family!
URL:https://bestchoicerealtyhomes.com/event/best-choice-agent-orientation/2026-09-14/
END:VEVENT
BEGIN:VEVENT
DTSTART;TZID=America/Los_Angeles:20260928T100000
DTEND;TZID=America/Los_Angeles:20260928T130000
DTSTAMP:20260423T045629
CREATED:20251017T182419Z
LAST-MODIFIED:20251222T222007Z
UID:10002848-1790589600-1790600400@bestchoicerealtyhomes.com
SUMMARY:Best Choice Agent Orientation
DESCRIPTION:Join the Best Choice Family and Experience Our Signature Agent Orientation!\nAt Best Choice\, we prefer to welcome our new and transferring agents by launching them into success! Our comprehensive Agent Orientation is designed to equip you with everything you need to hit the ground running and build a thriving business. \nWhat’s Included in Orientation: \n\nPersonalized marketing materials: business cards\, email signature\, social media graphics\, website setup\, and more\nA full walkthrough of the resources and support systems available to you at Best Choice\nHands-on training with the technology tools and platforms that will elevate your business\nExpert guidance on how to get started\, stay organized\, and grow your brand\n\nThis orientation is just one of the many ways we invest in our agents from day one. Whether you’re brand new or making a move\, we are ready to help you thrive. \nFor more information\, call us at 425.677.6966​. We can’t wait to welcome you to the family!
URL:https://bestchoicerealtyhomes.com/event/best-choice-agent-orientation/2026-09-28/
END:VEVENT
BEGIN:VEVENT
DTSTART;TZID=America/Los_Angeles:20261019T100000
DTEND;TZID=America/Los_Angeles:20261019T130000
DTSTAMP:20260423T045629
CREATED:20251017T182419Z
LAST-MODIFIED:20251222T222007Z
UID:10002851-1792404000-1792414800@bestchoicerealtyhomes.com
SUMMARY:Best Choice Agent Orientation
DESCRIPTION:Join the Best Choice Family and Experience Our Signature Agent Orientation!\nAt Best Choice\, we prefer to welcome our new and transferring agents by launching them into success! Our comprehensive Agent Orientation is designed to equip you with everything you need to hit the ground running and build a thriving business. \nWhat’s Included in Orientation: \n\nPersonalized marketing materials: business cards\, email signature\, social media graphics\, website setup\, and more\nA full walkthrough of the resources and support systems available to you at Best Choice\nHands-on training with the technology tools and platforms that will elevate your business\nExpert guidance on how to get started\, stay organized\, and grow your brand\n\nThis orientation is just one of the many ways we invest in our agents from day one. Whether you’re brand new or making a move\, we are ready to help you thrive. \nFor more information\, call us at 425.677.6966​. We can’t wait to welcome you to the family!
URL:https://bestchoicerealtyhomes.com/event/best-choice-agent-orientation/2026-10-19/
END:VEVENT
END:VCALENDAR